BEGIN:VCALENDAR
VERSION:2.0
PRODID:-//The Environmental Center - ECPv6.15.20//NONSGML v1.0//EN
CALSCALE:GREGORIAN
METHOD:PUBLISH
X-ORIGINAL-URL:https://envirocenter.org
X-WR-CALDESC:Events for The Environmental Center
REFRESH-INTERVAL;VALUE=DURATION:PT1H
X-Robots-Tag:noindex
X-PUBLISHED-TTL:PT1H
BEGIN:VTIMEZONE
TZID:America/Los_Angeles
BEGIN:DAYLIGHT
TZOFFSETFROM:-0800
TZOFFSETTO:-0700
TZNAME:PDT
DTSTART:20180311T100000
END:DAYLIGHT
BEGIN:STANDARD
TZOFFSETFROM:-0700
TZOFFSETTO:-0800
TZNAME:PST
DTSTART:20181104T090000
END:STANDARD
BEGIN:DAYLIGHT
TZOFFSETFROM:-0800
TZOFFSETTO:-0700
TZNAME:PDT
DTSTART:20190310T100000
END:DAYLIGHT
BEGIN:STANDARD
TZOFFSETFROM:-0700
TZOFFSETTO:-0800
TZNAME:PST
DTSTART:20191103T090000
END:STANDARD
BEGIN:DAYLIGHT
TZOFFSETFROM:-0800
TZOFFSETTO:-0700
TZNAME:PDT
DTSTART:20200308T100000
END:DAYLIGHT
BEGIN:STANDARD
TZOFFSETFROM:-0700
TZOFFSETTO:-0800
TZNAME:PST
DTSTART:20201101T090000
END:STANDARD
END:VTIMEZONE
BEGIN:VEVENT
DTSTART;VALUE=DATE:20190123
DTEND;VALUE=DATE:20190124
DTSTAMP:20260423T031828
CREATED:20190115T043733Z
LAST-MODIFIED:20230503T200815Z
UID:10003107-1548261000-1548268200@envirocenter.org
SUMMARY:Regional Transit Master Plan: Community Open House
DESCRIPTION:Help shape the future of public transportation!  Weigh in on future public transportation services at a Community Open House.\nCascades East Transit (CET) is developing a Regional Transit Master Plan to identify future transit service priorities over the next 25 years and we need your input. Drop by one of our Community Open Houses in January between 4:30 and 6:30 pm to discuss the future vision\, goals\, and near-term priorities for public transportation in Central Oregon. Light refreshments and activities for children will be provided. \nCommunity Open House Events: \n\nLa Pine: Tuesday\, January 15 at the La Pine Public Library (16425 1st St.)\nMadras: Thursday\, January 17 at the Rodriguez Jefferson Library Annex (134 SE E St.)\nRedmond: Tuesday\, January 22 at the Redmond City Hall\, Room 208 (411 SW 9th St.)\nWarm Springs: Wednesday\, January 23 at the Warm Springs Community Center (2200 Hollywood Blvd.)\nPrineville: Thursday\, January 24 at the Crook County Library\, Broughton Room (175 NW Meadow Lakes Dr.)\nBend: Tuesday\, January 29 at the Trinity Episcopal Church\, Brooks Hall (469 NW Wall St.)\n\nPublic comments can also be submitted through February 3\, 2019 via an online open house at CETTransitPlan.com. \nTo request information in an alternative format or different language\, please email Rachel Zakem or call 541-504-3310 five days prior to the meeting.
URL:https://envirocenter.org/event/regional-transit-master-plan-community-open-house-4/
LOCATION:Deschutes Brewery Public House\, 1044 NW Bond St\, Bend\, OR\, 97701\, United States
CATEGORIES:Transportation
GEO:44.0593984;-121.3113079
X-APPLE-STRUCTURED-LOCATION;VALUE=URI;X-ADDRESS=Deschutes Brewery Public House 1044 NW Bond St Bend OR 97701 United States;X-APPLE-RADIUS=500;X-TITLE=1044 NW Bond St:geo:-121.3113079,44.0593984
END:VEVENT
BEGIN:VEVENT
DTSTART;VALUE=DATE:20190123
DTEND;VALUE=DATE:20190124
DTSTAMP:20260423T031828
CREATED:20181227T061022Z
LAST-MODIFIED:20230503T200808Z
UID:10001269-1548264600-1548273600@envirocenter.org
SUMMARY:Bend's Transportation Plan: Neighborhood Workshop 1
DESCRIPTION:The City of Bend will host five 2 1/2-hour long workshops in January 2019.  The workshops are for you to share: \n\n\n\nHow you’d like transportation to work in your neighborhood.\nWhat you need in your neighborhood for you to be able to get around.\n\n\n\nThis workshop is targeted to people in the Old Bend\, Century West\, Southern Crossing and Southwest Bend neighborhoods\, but anyone is welcome to attend.  \nThe City will use this information to help create a list of neighborhood projects and programs.  The City will also share progress on Bend’s Transportation Plan. The first half hour of the workshop you can review work that has been done on the transportation plan to date. The following two hours will be an active workshop where attendees will work together in small groups to provide input on neighborhood transportation needs. Attendees are asked to stay for the entire workshop\, if possible\, to contribute to all of the workshop activities.
URL:https://envirocenter.org/event/bends-transportation-plan-neighborhood-workshop/
LOCATION:Deschutes Brewery Public House\, 1044 NW Bond St\, Bend\, OR\, 97701\, United States
CATEGORIES:Transportation
GEO:44.0593984;-121.3113079
X-APPLE-STRUCTURED-LOCATION;VALUE=URI;X-ADDRESS=Deschutes Brewery Public House 1044 NW Bond St Bend OR 97701 United States;X-APPLE-RADIUS=500;X-TITLE=1044 NW Bond St:geo:-121.3113079,44.0593984
END:VEVENT
END:VCALENDAR