BEGIN:VCALENDAR
VERSION:2.0
PRODID:-//The Environmental Center - ECPv6.15.20//NONSGML v1.0//EN
CALSCALE:GREGORIAN
METHOD:PUBLISH
X-WR-CALNAME:The Environmental Center
X-ORIGINAL-URL:https://envirocenter.org
X-WR-CALDESC:Events for The Environmental Center
REFRESH-INTERVAL;VALUE=DURATION:PT1H
X-Robots-Tag:noindex
X-PUBLISHED-TTL:PT1H
BEGIN:VTIMEZONE
TZID:America/Los_Angeles
BEGIN:DAYLIGHT
TZOFFSETFROM:-0800
TZOFFSETTO:-0700
TZNAME:PDT
DTSTART:20180311T100000
END:DAYLIGHT
BEGIN:STANDARD
TZOFFSETFROM:-0700
TZOFFSETTO:-0800
TZNAME:PST
DTSTART:20181104T090000
END:STANDARD
BEGIN:DAYLIGHT
TZOFFSETFROM:-0800
TZOFFSETTO:-0700
TZNAME:PDT
DTSTART:20190310T100000
END:DAYLIGHT
BEGIN:STANDARD
TZOFFSETFROM:-0700
TZOFFSETTO:-0800
TZNAME:PST
DTSTART:20191103T090000
END:STANDARD
BEGIN:DAYLIGHT
TZOFFSETFROM:-0800
TZOFFSETTO:-0700
TZNAME:PDT
DTSTART:20200308T100000
END:DAYLIGHT
BEGIN:STANDARD
TZOFFSETFROM:-0700
TZOFFSETTO:-0800
TZNAME:PST
DTSTART:20201101T090000
END:STANDARD
END:VTIMEZONE
BEGIN:VEVENT
DTSTART;VALUE=DATE:20190117
DTEND;VALUE=DATE:20190118
DTSTAMP:20260422T161939
CREATED:20190115T043457Z
LAST-MODIFIED:20230503T200815Z
UID:10003105-1547742600-1547749800@envirocenter.org
SUMMARY:Regional Transit Master Plan: Community Open House
DESCRIPTION:Help shape the future of public transportation!  Weigh in on future public transportation services at a Community Open House.\nCascades East Transit (CET) is developing a Regional Transit Master Plan to identify future transit service priorities over the next 25 years and we need your input. Drop by one of our Community Open Houses in January between 4:30 and 6:30 pm to discuss the future vision\, goals\, and near-term priorities for public transportation in Central Oregon. Light refreshments and activities for children will be provided. \nCommunity Open House Events: \n\nLa Pine: Tuesday\, January 15 at the La Pine Public Library (16425 1st St.)\nMadras: Thursday\, January 17 at the Rodriguez Jefferson Library Annex (134 SE E St.)\nRedmond: Tuesday\, January 22 at the Redmond City Hall\, Room 208 (411 SW 9th St.)\nWarm Springs: Wednesday\, January 23 at the Warm Springs Community Center (2200 Hollywood Blvd.)\nPrineville: Thursday\, January 24 at the Crook County Library\, Broughton Room (175 NW Meadow Lakes Dr.)\nBend: Tuesday\, January 29 at the Trinity Episcopal Church\, Brooks Hall (469 NW Wall St.)\n\nPublic comments can also be submitted through February 3\, 2019 via an online open house at CETTransitPlan.com. \nTo request information in an alternative format or different language\, please email Rachel Zakem or call 541-504-3310 five days prior to the meeting.
URL:https://envirocenter.org/event/regional-transit-master-plan-community-open-house-2/
LOCATION:Deschutes Brewery Public House\, 1044 NW Bond St\, Bend\, OR\, 97701\, United States
CATEGORIES:Transportation
GEO:44.0593984;-121.3113079
X-APPLE-STRUCTURED-LOCATION;VALUE=URI;X-ADDRESS=Deschutes Brewery Public House 1044 NW Bond St Bend OR 97701 United States;X-APPLE-RADIUS=500;X-TITLE=1044 NW Bond St:geo:-121.3113079,44.0593984
END:VEVENT
BEGIN:VEVENT
DTSTART;VALUE=DATE:20190117
DTEND;VALUE=DATE:20190118
DTSTAMP:20260422T161939
CREATED:20160803T235848Z
LAST-MODIFIED:20230503T200442Z
UID:10000704-1547745300-1547755200@envirocenter.org
SUMMARY:Bend COTA Work Events
DESCRIPTION:When:  Thursday Aug 11\, Tuesday Aug 16\, Tuesday Aug 23 and Tuesday Aug 30\, 5:15 to Dusk \nWhere:  Meet at the old Ray’s parking lot\, NE corner of Simpson Ave and Century Drive in Bend \nWorksite:  Varies \nThere’s only one thing better than mountain biking in Bend\, OR and that’s riding in Bend\, knowing that you helped build and maintain the trails you love. \nPlease bring a hydration pack with water and a snack. \nBe sure to bring appropriate layers to accommodate whatever the weather may be. \nQuestions?  contact@cotamtb.com \nAll COTA trail work events require the following safety measures: \nAll participants are required to have the following protective clothing and equipment: \n\nSturdy shoes or boots\nGloves\nEye protection with clear or light colored lens\nLong pants\n\nDue to COTA’s insurance requirements and the inherent dangers of trail work\, we must implement the following policy regarding children at work events: \n\nFor anyone 14 years of age or younger\, we require one parent\, guardian\, or responsible adult for supervision of every four kids attending any COTA trail work events.\nAll minors under the age of 18 must have a parent or guardian available to sign our waiver.\n\nAnyone who arrives for a work event may be turned away if he/she cannot meet the above requirements.
URL:https://envirocenter.org/event/bend-cota-work-events-2016-08-11/
LOCATION:Deschutes Brewery Public House\, 1044 NW Bond St\, Bend\, OR\, 97701\, United States
GEO:44.0593984;-121.3113079
X-APPLE-STRUCTURED-LOCATION;VALUE=URI;X-ADDRESS=Deschutes Brewery Public House 1044 NW Bond St Bend OR 97701 United States;X-APPLE-RADIUS=500;X-TITLE=1044 NW Bond St:geo:-121.3113079,44.0593984
END:VEVENT
BEGIN:VEVENT
DTSTART;VALUE=DATE:20190117
DTEND;VALUE=DATE:20190118
DTSTAMP:20260422T161939
CREATED:20190103T072122Z
LAST-MODIFIED:20230503T200810Z
UID:10001272-1547748000-1547755200@envirocenter.org
SUMMARY:Environmental Priorities for the 2019 Legislative Session
DESCRIPTION:Environmental Priorities for the 2019 Legislative Session at Pints and Politics\nJoin OLCV to prepare for the 2019 Oregon Legislative Session. Learn about important priorities\, like passing the Clean Energy Jobs bill\, and find out how you can get involved in passing important laws.
URL:https://envirocenter.org/event/environmental-priorities-for-the-2019-legislative-session/
LOCATION:Deschutes Brewery Public House\, 1044 NW Bond St\, Bend\, OR\, 97701\, United States
CATEGORIES:Climate
GEO:44.0593984;-121.3113079
X-APPLE-STRUCTURED-LOCATION;VALUE=URI;X-ADDRESS=Deschutes Brewery Public House 1044 NW Bond St Bend OR 97701 United States;X-APPLE-RADIUS=500;X-TITLE=1044 NW Bond St:geo:-121.3113079,44.0593984
END:VEVENT
END:VCALENDAR