BEGIN:VCALENDAR
VERSION:2.0
PRODID:-//The Environmental Center - ECPv6.15.20//NONSGML v1.0//EN
CALSCALE:GREGORIAN
METHOD:PUBLISH
X-WR-CALNAME:The Environmental Center
X-ORIGINAL-URL:https://envirocenter.org
X-WR-CALDESC:Events for The Environmental Center
REFRESH-INTERVAL;VALUE=DURATION:PT1H
X-Robots-Tag:noindex
X-PUBLISHED-TTL:PT1H
BEGIN:VTIMEZONE
TZID:America/Los_Angeles
BEGIN:DAYLIGHT
TZOFFSETFROM:-0800
TZOFFSETTO:-0700
TZNAME:PDT
DTSTART:20170312T100000
END:DAYLIGHT
BEGIN:STANDARD
TZOFFSETFROM:-0700
TZOFFSETTO:-0800
TZNAME:PST
DTSTART:20171105T090000
END:STANDARD
BEGIN:DAYLIGHT
TZOFFSETFROM:-0800
TZOFFSETTO:-0700
TZNAME:PDT
DTSTART:20180311T100000
END:DAYLIGHT
BEGIN:STANDARD
TZOFFSETFROM:-0700
TZOFFSETTO:-0800
TZNAME:PST
DTSTART:20181104T090000
END:STANDARD
BEGIN:DAYLIGHT
TZOFFSETFROM:-0800
TZOFFSETTO:-0700
TZNAME:PDT
DTSTART:20190310T100000
END:DAYLIGHT
BEGIN:STANDARD
TZOFFSETFROM:-0700
TZOFFSETTO:-0800
TZNAME:PST
DTSTART:20191103T090000
END:STANDARD
END:VTIMEZONE
BEGIN:VEVENT
DTSTART;TZID=America/Los_Angeles:20181207T170000
DTEND;TZID=America/Los_Angeles:20181207T203000
DTSTAMP:20260422T161937
CREATED:20181115T004741Z
LAST-MODIFIED:20181115T004741Z
UID:10003083-1544202000-1544214600@envirocenter.org
SUMMARY:High Desert Hootenanny
DESCRIPTION:Join Oregon Natural Desert Association\, friends and supporters in celebrating Oregon’s incredible high desert and the conservation successes you have achieved this year! \nOn Friday\, December 7 ONDA board and staff will share highlights from 2018 and discuss conservation opportunities in the year ahead. Enjoy music from the Silvertone Devils Duo\, refreshments from Spork\, Worthy Brewing\, Crater Lake Spirits and Humm Kombucha\, and giveaways from Wildish\, Patagonia\, Osprey and more. \nThis event is free and open to all. The party starts at 5 p.m. See you there!
URL:https://envirocenter.org/event/high-desert-hootenanny-2/
LOCATION:Hollinshead Barn\, 1235 NE Jones Rd.\, Bend\, OR\, United States
ORGANIZER;CN="Oregon Natural Desert Association":MAILTO:corie@onda.org
GEO:44.0701911;-121.2867397
X-APPLE-STRUCTURED-LOCATION;VALUE=URI;X-ADDRESS=Hollinshead Barn 1235 NE Jones Rd. Bend OR United States;X-APPLE-RADIUS=500;X-TITLE=1235 NE Jones Rd.:geo:-121.2867397,44.0701911
END:VEVENT
END:VCALENDAR