BEGIN:VCALENDAR
VERSION:2.0
PRODID:-//The Environmental Center - ECPv6.15.20//NONSGML v1.0//EN
CALSCALE:GREGORIAN
METHOD:PUBLISH
X-ORIGINAL-URL:https://envirocenter.org
X-WR-CALDESC:Events for The Environmental Center
REFRESH-INTERVAL;VALUE=DURATION:PT1H
X-Robots-Tag:noindex
X-PUBLISHED-TTL:PT1H
BEGIN:VTIMEZONE
TZID:America/Los_Angeles
BEGIN:DAYLIGHT
TZOFFSETFROM:-0800
TZOFFSETTO:-0700
TZNAME:PDT
DTSTART:20170312T100000
END:DAYLIGHT
BEGIN:STANDARD
TZOFFSETFROM:-0700
TZOFFSETTO:-0800
TZNAME:PST
DTSTART:20171105T090000
END:STANDARD
BEGIN:DAYLIGHT
TZOFFSETFROM:-0800
TZOFFSETTO:-0700
TZNAME:PDT
DTSTART:20180311T100000
END:DAYLIGHT
BEGIN:STANDARD
TZOFFSETFROM:-0700
TZOFFSETTO:-0800
TZNAME:PST
DTSTART:20181104T090000
END:STANDARD
BEGIN:DAYLIGHT
TZOFFSETFROM:-0800
TZOFFSETTO:-0700
TZNAME:PDT
DTSTART:20190310T100000
END:DAYLIGHT
BEGIN:STANDARD
TZOFFSETFROM:-0700
TZOFFSETTO:-0800
TZNAME:PST
DTSTART:20191103T090000
END:STANDARD
END:VTIMEZONE
BEGIN:VEVENT
DTSTART;TZID=America/Los_Angeles:20181026T100000
DTEND;TZID=America/Los_Angeles:20181026T130000
DTSTAMP:20260422T081521
CREATED:20181009T184442Z
LAST-MODIFIED:20181009T184442Z
UID:10003069-1540548000-1540558800@envirocenter.org
SUMMARY:Fall Colors Hike\, Metolius Preserve
DESCRIPTION:Join the Deschutes Land Trust and Carol Wall for a fall colors hike at one of our flagship Preserves\, the Metolius Preserve. Hike over Lake Creek and around the northern portion of the Preserve to learn about ponderosa pines and the white-headed woodpeckers that depend on them. Enjoy the brilliant yellow of changing larch trees and then\, take a break by the creek and hear how native salmon are making their\nreturn. \nHike Rating: This is an easy 3-mile hike on trails. \nFree. Please register online at www.deschuteslandtrust.org/hikes
URL:https://envirocenter.org/event/fall-colors-hike-metolius-preserve-2/
LOCATION:Metolius Preserve\, Camp Sherman\, OR\, 97730\, United States
ORGANIZER;CN="Deschutes Land Trust":MAILTO:event@deschuteslandtrust.org
END:VEVENT
END:VCALENDAR