BEGIN:VCALENDAR
VERSION:2.0
PRODID:-//The Environmental Center - ECPv6.15.20//NONSGML v1.0//EN
CALSCALE:GREGORIAN
METHOD:PUBLISH
X-WR-CALNAME:The Environmental Center
X-ORIGINAL-URL:https://envirocenter.org
X-WR-CALDESC:Events for The Environmental Center
REFRESH-INTERVAL;VALUE=DURATION:PT1H
X-Robots-Tag:noindex
X-PUBLISHED-TTL:PT1H
BEGIN:VTIMEZONE
TZID:America/Los_Angeles
BEGIN:DAYLIGHT
TZOFFSETFROM:-0800
TZOFFSETTO:-0700
TZNAME:PDT
DTSTART:20160313T100000
END:DAYLIGHT
BEGIN:STANDARD
TZOFFSETFROM:-0700
TZOFFSETTO:-0800
TZNAME:PST
DTSTART:20161106T090000
END:STANDARD
BEGIN:DAYLIGHT
TZOFFSETFROM:-0800
TZOFFSETTO:-0700
TZNAME:PDT
DTSTART:20170312T100000
END:DAYLIGHT
BEGIN:STANDARD
TZOFFSETFROM:-0700
TZOFFSETTO:-0800
TZNAME:PST
DTSTART:20171105T090000
END:STANDARD
BEGIN:DAYLIGHT
TZOFFSETFROM:-0800
TZOFFSETTO:-0700
TZNAME:PDT
DTSTART:20180311T100000
END:DAYLIGHT
BEGIN:STANDARD
TZOFFSETFROM:-0700
TZOFFSETTO:-0800
TZNAME:PST
DTSTART:20181104T090000
END:STANDARD
END:VTIMEZONE
BEGIN:VEVENT
DTSTART;VALUE=DATE:20170506
DTEND;VALUE=DATE:20170507
DTSTAMP:20260422T174137
CREATED:20170425T013016Z
LAST-MODIFIED:20230503T200549Z
UID:10002824-1494061200-1494086400@envirocenter.org
SUMMARY:Summit Loop Geology Hike\, Smith Rock State Park
DESCRIPTION:Join the Deschutes Land Trust and Daniele McKay for a hike along the Summit Loop Trail at Smith Rock State Park. This gorgeous loop follows the Burma Road up to a ridge overlooking famed crags like Monkey Face. On the descent\, the Summit Loop trail crosses a private property 9 protected by the Land Trust before joining the Park’s river trail. Learn about how this dramatic area was formed by the forces of volcanoes and water while taking in sweeping views of the\nCascade crest. Registration is required and opens 1 month prior to the event. Please register online at www.deschuteslandtrust.org/hikes.\nRating: This is a challenging\, 7-mile hike.\nWhat to bring: Snacks/Lunch\, water\, sturdy hiking shoes. Dress for the weather.
URL:https://envirocenter.org/event/summit-loop-geology-hike-smith-rock-state-park/
LOCATION:Deschutes Brewery Public House\, 1044 NW Bond St\, Bend\, OR\, 97701\, United States
GEO:44.0593984;-121.3113079
X-APPLE-STRUCTURED-LOCATION;VALUE=URI;X-ADDRESS=Deschutes Brewery Public House 1044 NW Bond St Bend OR 97701 United States;X-APPLE-RADIUS=500;X-TITLE=1044 NW Bond St:geo:-121.3113079,44.0593984
END:VEVENT
BEGIN:VEVENT
DTSTART;VALUE=DATE:20170506
DTEND;VALUE=DATE:20170507
DTSTAMP:20260422T174137
CREATED:20190305T020532Z
LAST-MODIFIED:20230503T200826Z
UID:10001001-1494091800-1494104400@envirocenter.org
SUMMARY:Riverfeast Dinner & Auction
DESCRIPTION:Join Deschutes River Conservancy on May 11th for a delightful evening of irresistible food\, spirits\, and music. Bid on exclusive adventures and experiences\, custom art and other wonderful packages. Give back to our beautiful rivers while exploring the stunning event space at the Unitarian Universalist Fellowship of Central Oregon off Skyliner Road in Bend. \nCoyote Willow’s exciting combination of cello\, guitar\, and rich vocals begin the evening at 5:30. \nAll proceeds from the event support the DRC’s mission to restore streamflow and improve water quality in the Deschutes Basin.
URL:https://envirocenter.org/event/riverfeast-dinner-auction-2/
LOCATION:Deschutes Brewery Public House\, 1044 NW Bond St\, Bend\, OR\, 97701\, United States
CATEGORIES:Water
GEO:44.0593984;-121.3113079
X-APPLE-STRUCTURED-LOCATION;VALUE=URI;X-ADDRESS=Deschutes Brewery Public House 1044 NW Bond St Bend OR 97701 United States;X-APPLE-RADIUS=500;X-TITLE=1044 NW Bond St:geo:-121.3113079,44.0593984
END:VEVENT
END:VCALENDAR