BEGIN:VCALENDAR
VERSION:2.0
PRODID:-//The Environmental Center - ECPv6.15.20//NONSGML v1.0//EN
CALSCALE:GREGORIAN
METHOD:PUBLISH
X-WR-CALNAME:The Environmental Center
X-ORIGINAL-URL:https://envirocenter.org
X-WR-CALDESC:Events for The Environmental Center
REFRESH-INTERVAL;VALUE=DURATION:PT1H
X-Robots-Tag:noindex
X-PUBLISHED-TTL:PT1H
BEGIN:VTIMEZONE
TZID:America/Los_Angeles
BEGIN:DAYLIGHT
TZOFFSETFROM:-0800
TZOFFSETTO:-0700
TZNAME:PDT
DTSTART:20160313T100000
END:DAYLIGHT
BEGIN:STANDARD
TZOFFSETFROM:-0700
TZOFFSETTO:-0800
TZNAME:PST
DTSTART:20161106T090000
END:STANDARD
BEGIN:DAYLIGHT
TZOFFSETFROM:-0800
TZOFFSETTO:-0700
TZNAME:PDT
DTSTART:20170312T100000
END:DAYLIGHT
BEGIN:STANDARD
TZOFFSETFROM:-0700
TZOFFSETTO:-0800
TZNAME:PST
DTSTART:20171105T090000
END:STANDARD
BEGIN:DAYLIGHT
TZOFFSETFROM:-0800
TZOFFSETTO:-0700
TZNAME:PDT
DTSTART:20180311T100000
END:DAYLIGHT
BEGIN:STANDARD
TZOFFSETFROM:-0700
TZOFFSETTO:-0800
TZNAME:PST
DTSTART:20181104T090000
END:STANDARD
END:VTIMEZONE
BEGIN:VEVENT
DTSTART;TZID=America/Los_Angeles:20170503T093000
DTEND;TZID=America/Los_Angeles:20170503T140000
DTSTAMP:20260422T174136
CREATED:20170424T182919Z
LAST-MODIFIED:20170424T182919Z
UID:10002823-1493803800-1493820000@envirocenter.org
SUMMARY:Lake Creek Trail Hike\, Metolius Preserve
DESCRIPTION:Join the Deschutes Land Trust and Mary Crow for a hike on the Lake Creek Trail at the Metolius Preserve. We’ll hike through the Preserve’s ponderosa forests and follow Lake Creek on our way to Suttle Lake. Learn about the fascinating plant life of the Metolius region where the wetter plants of the western Cascades blend with our drier eastside forests. Registration is required and opens 1 month prior to the event. Please register online at www.deschuteslandtrust.org/hikes. \nRating: This is a moderate to challenging\, ~5.5 mile hike.\nWhat to bring: Snacks/Lunch\, water\, sturdy hiking shoes. Dress for the weather.
URL:https://envirocenter.org/event/lake-creek-trail-hike-metolius-preserve/
LOCATION:Metolius Preserve\, Camp Sherman\, OR\, 97730\, United States
ORGANIZER;CN="Deschutes Land Trust":MAILTO:event@deschuteslandtrust.org
END:VEVENT
END:VCALENDAR