BEGIN:VCALENDAR
VERSION:2.0
PRODID:-//The Environmental Center - ECPv6.15.20//NONSGML v1.0//EN
CALSCALE:GREGORIAN
METHOD:PUBLISH
X-WR-CALNAME:The Environmental Center
X-ORIGINAL-URL:https://envirocenter.org
X-WR-CALDESC:Events for The Environmental Center
REFRESH-INTERVAL;VALUE=DURATION:PT1H
X-Robots-Tag:noindex
X-PUBLISHED-TTL:PT1H
BEGIN:VTIMEZONE
TZID:America/Los_Angeles
BEGIN:DAYLIGHT
TZOFFSETFROM:-0800
TZOFFSETTO:-0700
TZNAME:PDT
DTSTART:20160313T100000
END:DAYLIGHT
BEGIN:STANDARD
TZOFFSETFROM:-0700
TZOFFSETTO:-0800
TZNAME:PST
DTSTART:20161106T090000
END:STANDARD
BEGIN:DAYLIGHT
TZOFFSETFROM:-0800
TZOFFSETTO:-0700
TZNAME:PDT
DTSTART:20170312T100000
END:DAYLIGHT
BEGIN:STANDARD
TZOFFSETFROM:-0700
TZOFFSETTO:-0800
TZNAME:PST
DTSTART:20171105T090000
END:STANDARD
BEGIN:DAYLIGHT
TZOFFSETFROM:-0800
TZOFFSETTO:-0700
TZNAME:PDT
DTSTART:20180311T100000
END:DAYLIGHT
BEGIN:STANDARD
TZOFFSETFROM:-0700
TZOFFSETTO:-0800
TZNAME:PST
DTSTART:20181104T090000
END:STANDARD
END:VTIMEZONE
BEGIN:VEVENT
DTSTART;VALUE=DATE:20170410
DTEND;VALUE=DATE:20170411
DTSTAMP:20260422T174138
CREATED:20170302T083317Z
LAST-MODIFIED:20230503T200532Z
UID:10002801-1491849000-1491856200@envirocenter.org
SUMMARY:Solving Bend's Missing Middle Housing Puzzle
DESCRIPTION:What is the solution to Bend’s woefully missing middle housing market? \nJoin Building a Better Bend\, Brooks Resources Corporation and Bend 2030 to hear strategies from Dan Parolek\, the nation’s premier expert on this critical housing need. Then support progress by offering your own input on a range of new recommendations vetted and proposed by a new collaborative housing work group led by key stakeholders including COAR\, COBA\, Bend 2030\, Brooks Resources\, Housing Works\, OSU-Cascades\, American Institute of Architects\, and the City of Bend. Leave this exciting night with a sense of the direction some of the concepts our city must pursue to make real headway on this complicated issue. \nDoors open at 5:30pm. FREE\, but ticket required.
URL:https://envirocenter.org/event/solving-bends-missing-middle-housing-puzzle/
LOCATION:Deschutes Brewery Public House\, 1044 NW Bond St\, Bend\, OR\, 97701\, United States
GEO:44.0593984;-121.3113079
X-APPLE-STRUCTURED-LOCATION;VALUE=URI;X-ADDRESS=Deschutes Brewery Public House 1044 NW Bond St Bend OR 97701 United States;X-APPLE-RADIUS=500;X-TITLE=1044 NW Bond St:geo:-121.3113079,44.0593984
END:VEVENT
END:VCALENDAR