BEGIN:VCALENDAR
VERSION:2.0
PRODID:-//The Environmental Center - ECPv6.15.20//NONSGML v1.0//EN
CALSCALE:GREGORIAN
METHOD:PUBLISH
X-ORIGINAL-URL:https://envirocenter.org
X-WR-CALDESC:Events for The Environmental Center
REFRESH-INTERVAL;VALUE=DURATION:PT1H
X-Robots-Tag:noindex
X-PUBLISHED-TTL:PT1H
BEGIN:VTIMEZONE
TZID:America/Los_Angeles
BEGIN:DAYLIGHT
TZOFFSETFROM:-0800
TZOFFSETTO:-0700
TZNAME:PDT
DTSTART:20160313T100000
END:DAYLIGHT
BEGIN:STANDARD
TZOFFSETFROM:-0700
TZOFFSETTO:-0800
TZNAME:PST
DTSTART:20161106T090000
END:STANDARD
BEGIN:DAYLIGHT
TZOFFSETFROM:-0800
TZOFFSETTO:-0700
TZNAME:PDT
DTSTART:20170312T100000
END:DAYLIGHT
BEGIN:STANDARD
TZOFFSETFROM:-0700
TZOFFSETTO:-0800
TZNAME:PST
DTSTART:20171105T090000
END:STANDARD
BEGIN:DAYLIGHT
TZOFFSETFROM:-0800
TZOFFSETTO:-0700
TZNAME:PDT
DTSTART:20180311T100000
END:DAYLIGHT
BEGIN:STANDARD
TZOFFSETFROM:-0700
TZOFFSETTO:-0800
TZNAME:PST
DTSTART:20181104T090000
END:STANDARD
END:VTIMEZONE
BEGIN:VEVENT
DTSTART;VALUE=DATE:20170330
DTEND;VALUE=DATE:20170331
DTSTAMP:20260422T030253
CREATED:20170308T024426Z
LAST-MODIFIED:20230503T200534Z
UID:10001000-1490893200-1490900400@envirocenter.org
SUMMARY:March Green Drinks
DESCRIPTION:Join us for March Green Drinks at Bend Electric Bikes\, your go-to resource for e-bikes in Bend! Since 2008\, BEB has been selling\, repairing and converting electric and cargo bikes that help locals get around town. Whether you ride for fun\, as your primary mode of transportation\, or for the planet\, Bend Electric Bikes can help you learn more about what’s possible with an e-bike. Come check out the shop\,  meet the team\, and demo an e-bike around the neighborhood! \nPlease RSVP to this event!\nLearn more about Bend Electric Bikes. \nGreen Drinks events connect our community with green businesses throughout Central Oregon. Please consider walking\, riding\, or carpooling to the event. And don’t forget to bring your own cup to enjoy a drink or two!
URL:https://envirocenter.org/event/march-green-drinks/
LOCATION:Deschutes Brewery Public House\, 1044 NW Bond St\, Bend\, OR\, 97701\, United States
GEO:44.0593984;-121.3113079
X-APPLE-STRUCTURED-LOCATION;VALUE=URI;X-ADDRESS=Deschutes Brewery Public House 1044 NW Bond St Bend OR 97701 United States;X-APPLE-RADIUS=500;X-TITLE=1044 NW Bond St:geo:-121.3113079,44.0593984
END:VEVENT
BEGIN:VEVENT
DTSTART;VALUE=DATE:20170330
DTEND;VALUE=DATE:20170331
DTSTAMP:20260422T030253
CREATED:20160803T235848Z
LAST-MODIFIED:20230503T200442Z
UID:10000610-1490894100-1490904000@envirocenter.org
SUMMARY:Bend COTA Work Events
DESCRIPTION:When:  Thursday Aug 11\, Tuesday Aug 16\, Tuesday Aug 23 and Tuesday Aug 30\, 5:15 to Dusk \nWhere:  Meet at the old Ray’s parking lot\, NE corner of Simpson Ave and Century Drive in Bend \nWorksite:  Varies \nThere’s only one thing better than mountain biking in Bend\, OR and that’s riding in Bend\, knowing that you helped build and maintain the trails you love. \nPlease bring a hydration pack with water and a snack. \nBe sure to bring appropriate layers to accommodate whatever the weather may be. \nQuestions?  contact@cotamtb.com \nAll COTA trail work events require the following safety measures: \nAll participants are required to have the following protective clothing and equipment: \n\nSturdy shoes or boots\nGloves\nEye protection with clear or light colored lens\nLong pants\n\nDue to COTA’s insurance requirements and the inherent dangers of trail work\, we must implement the following policy regarding children at work events: \n\nFor anyone 14 years of age or younger\, we require one parent\, guardian\, or responsible adult for supervision of every four kids attending any COTA trail work events.\nAll minors under the age of 18 must have a parent or guardian available to sign our waiver.\n\nAnyone who arrives for a work event may be turned away if he/she cannot meet the above requirements.
URL:https://envirocenter.org/event/bend-cota-work-events-2016-08-11/
LOCATION:Deschutes Brewery Public House\, 1044 NW Bond St\, Bend\, OR\, 97701\, United States
GEO:44.0593984;-121.3113079
X-APPLE-STRUCTURED-LOCATION;VALUE=URI;X-ADDRESS=Deschutes Brewery Public House 1044 NW Bond St Bend OR 97701 United States;X-APPLE-RADIUS=500;X-TITLE=1044 NW Bond St:geo:-121.3113079,44.0593984
END:VEVENT
BEGIN:VEVENT
DTSTART;VALUE=DATE:20170330
DTEND;VALUE=DATE:20170331
DTSTAMP:20260422T030253
CREATED:20170309T085056Z
LAST-MODIFIED:20230503T200537Z
UID:10002802-1490896800-1490904000@envirocenter.org
SUMMARY:Mason Bees: Rearing and Caring for a Docile and Efficient Pollinator
DESCRIPTION:This year the Central Oregon Beekeeping Association (COBKA) will host a talk on Mason Bees. This is a unique and interesting pollinator that uses a special beehive and provides a very accessible beekeeping experience. Mason Bees are perfect for the novice or gardener just getting started. They can also be rewarding for experienced beekeepers looking for a safe pollinator that does not pose a risk to pets or children. Entomologist and Master Gardener Rich Little will discuss this interesting insect that is docile\, solitary and lives in a hive that looks more like a birdhouse than a beehive. \nLearn about:\n• Mason Bee Basics\n• Equipment for keeping Mason bees\n• Suppliers/where to find equipment \nThis event is perfect for anyone interested in learning about backyard beekeeping\, particularly someone who is interested in beekeeping but lacks the time to manage a honey bee hive. Mason bees are an easy way for homeowners to improve their garden. This is also a good chance to network and meet others interested in honey bees. Rich Little is an entomologist\, a Master Gardner\, and a former Deputy Agriculture Commissioner who is an enthusiastic and passionate speaker about insects (especially bees) and our natural world. About COBKA: We are a diverse bunch of individuals who share a fascination for the honey bee and its workings. Our members range from full-time beekeepers and pollinators with hundreds of hives to hobbyists to those who do not even keep bees\, but are fascinated by the six legs and four wings of Apis mellifera. \nThe Mission of the Central Oregon Beekeeping Association (COBKA) is to promote effective\, economic and successful regional beekeeping through education\, collaboration\, communication and research in the spirit of friendship.
URL:https://envirocenter.org/event/mason-bees-rearing-caring-docile-efficient-pollinator/
LOCATION:Deschutes Brewery Public House\, 1044 NW Bond St\, Bend\, OR\, 97701\, United States
GEO:44.0593984;-121.3113079
X-APPLE-STRUCTURED-LOCATION;VALUE=URI;X-ADDRESS=Deschutes Brewery Public House 1044 NW Bond St Bend OR 97701 United States;X-APPLE-RADIUS=500;X-TITLE=1044 NW Bond St:geo:-121.3113079,44.0593984
END:VEVENT
END:VCALENDAR