BEGIN:VCALENDAR
VERSION:2.0
PRODID:-//The Environmental Center - ECPv6.15.20//NONSGML v1.0//EN
CALSCALE:GREGORIAN
METHOD:PUBLISH
X-ORIGINAL-URL:https://envirocenter.org
X-WR-CALDESC:Events for The Environmental Center
REFRESH-INTERVAL;VALUE=DURATION:PT1H
X-Robots-Tag:noindex
X-PUBLISHED-TTL:PT1H
BEGIN:VTIMEZONE
TZID:America/Los_Angeles
BEGIN:DAYLIGHT
TZOFFSETFROM:-0800
TZOFFSETTO:-0700
TZNAME:PDT
DTSTART:20160313T100000
END:DAYLIGHT
BEGIN:STANDARD
TZOFFSETFROM:-0700
TZOFFSETTO:-0800
TZNAME:PST
DTSTART:20161106T090000
END:STANDARD
BEGIN:DAYLIGHT
TZOFFSETFROM:-0800
TZOFFSETTO:-0700
TZNAME:PDT
DTSTART:20170312T100000
END:DAYLIGHT
BEGIN:STANDARD
TZOFFSETFROM:-0700
TZOFFSETTO:-0800
TZNAME:PST
DTSTART:20171105T090000
END:STANDARD
BEGIN:DAYLIGHT
TZOFFSETFROM:-0800
TZOFFSETTO:-0700
TZNAME:PDT
DTSTART:20180311T100000
END:DAYLIGHT
BEGIN:STANDARD
TZOFFSETFROM:-0700
TZOFFSETTO:-0800
TZNAME:PST
DTSTART:20181104T090000
END:STANDARD
END:VTIMEZONE
BEGIN:VEVENT
DTSTART;VALUE=DATE:20170328
DTEND;VALUE=DATE:20170329
DTSTAMP:20260422T030253
CREATED:20170301T024453Z
LAST-MODIFIED:20230503T200531Z
UID:10002794-1490691600-1490713200@envirocenter.org
SUMMARY:Spring Break Garden Work Day
DESCRIPTION:Join us in the garden anytime between 9am -3pm to help get our garden ready for spring! Coffee & snacks will be served\, family friendly\, come dressed to get dirty! Contact Denise with questions.
URL:https://envirocenter.org/event/spring-break-garden-work-day/
LOCATION:Deschutes Brewery Public House\, 1044 NW Bond St\, Bend\, OR\, 97701\, United States
GEO:44.0593984;-121.3113079
X-APPLE-STRUCTURED-LOCATION;VALUE=URI;X-ADDRESS=Deschutes Brewery Public House 1044 NW Bond St Bend OR 97701 United States;X-APPLE-RADIUS=500;X-TITLE=1044 NW Bond St:geo:-121.3113079,44.0593984
END:VEVENT
BEGIN:VEVENT
DTSTART;VALUE=DATE:20170328
DTEND;VALUE=DATE:20170329
DTSTAMP:20260422T030253
CREATED:20170314T033134Z
LAST-MODIFIED:20230503T200537Z
UID:10002805-1490716800-1490724000@envirocenter.org
SUMMARY:Better Protection for Trees in Bend
DESCRIPTION:As Bend once was ‘Tree City\, USA’ and several signs have never been taken down\, many people believe that we still hold the recognition\, but the paperwork was never refiled by the city in 2007. There is also confusion as to whether Bend has a Tree Ordinance. In the city code\, protection for trees appears in several places written in the code which are ‘tree ordinances’\, but the city does not have a stand alone\, ‘Tree Ordinance’ or any protection for Heritage Trees. Also\, as Bend is rapidly growing\, stronger tree protection and management of our urban forest is imperative for our future as a sustainable future for generations to come. As City Council goes into goal setting\, it is imperative that we speak out especially to the new Mayor Roats and the new members of Council. Councilors cannot change policy alone. They need to hear from all of us! When we make our voices heard\, it is easy for them to react. We all need to speak out\, especially children and young adults. \nEveryone is welcome! \n\nNotes from 3.8.17 Tree Meeting\nAnother successful meeting as a Tree Coalition is taking on strong roots! Louise Palmer gave an update from City Council and David Morman introduced the Arbor Day Proclamation draft for the group to review. Wendy Robinson from City Planning Department was  instrumental with her experience with the city. Emily Roynestad discuss our strategic planning\, vision\, and our name. We set 60 day realistic goals Urban Forestry Advisory Team. Community Outreach and the Arbor Day Celebration. \nPlans are to hopefully have City Council sign the Arbor Day Proclamation the City Council Meeting on Wednesday\, April 5th. The paperwork has been sent to Nathan Boddie to review. With Oregon Arbor Week April 2-7 this year\, having a large crowd at City Council Meeting as they sign the proclamation would encourage council to move forward in making Bend ‘Tree City\, USA’\, again. \nPlease send over your ideas for a name for our group as well as our vision statement. We will be voting at the next meeting. Please invite anyone that you think may be interested. Everyone is welcome!  For questions\, ideas\, or suggestions\, please call Louise Palmer – 541.788.1786.
URL:https://envirocenter.org/event/better-protection-trees-bend/
LOCATION:Deschutes Brewery Public House\, 1044 NW Bond St\, Bend\, OR\, 97701\, United States
GEO:44.0593984;-121.3113079
X-APPLE-STRUCTURED-LOCATION;VALUE=URI;X-ADDRESS=Deschutes Brewery Public House 1044 NW Bond St Bend OR 97701 United States;X-APPLE-RADIUS=500;X-TITLE=1044 NW Bond St:geo:-121.3113079,44.0593984
END:VEVENT
END:VCALENDAR