BEGIN:VCALENDAR
VERSION:2.0
PRODID:-//The Environmental Center - ECPv6.15.20//NONSGML v1.0//EN
CALSCALE:GREGORIAN
METHOD:PUBLISH
X-ORIGINAL-URL:https://envirocenter.org
X-WR-CALDESC:Events for The Environmental Center
REFRESH-INTERVAL;VALUE=DURATION:PT1H
X-Robots-Tag:noindex
X-PUBLISHED-TTL:PT1H
BEGIN:VTIMEZONE
TZID:America/Los_Angeles
BEGIN:DAYLIGHT
TZOFFSETFROM:-0800
TZOFFSETTO:-0700
TZNAME:PDT
DTSTART:20160313T100000
END:DAYLIGHT
BEGIN:STANDARD
TZOFFSETFROM:-0700
TZOFFSETTO:-0800
TZNAME:PST
DTSTART:20161106T090000
END:STANDARD
BEGIN:DAYLIGHT
TZOFFSETFROM:-0800
TZOFFSETTO:-0700
TZNAME:PDT
DTSTART:20170312T100000
END:DAYLIGHT
BEGIN:STANDARD
TZOFFSETFROM:-0700
TZOFFSETTO:-0800
TZNAME:PST
DTSTART:20171105T090000
END:STANDARD
BEGIN:DAYLIGHT
TZOFFSETFROM:-0800
TZOFFSETTO:-0700
TZNAME:PDT
DTSTART:20180311T100000
END:DAYLIGHT
BEGIN:STANDARD
TZOFFSETFROM:-0700
TZOFFSETTO:-0800
TZNAME:PST
DTSTART:20181104T090000
END:STANDARD
END:VTIMEZONE
BEGIN:VEVENT
DTSTART;VALUE=DATE:20170311
DTEND;VALUE=DATE:20170312
DTSTAMP:20260422T030253
CREATED:20180209T235735Z
LAST-MODIFIED:20230503T200655Z
UID:10002782-1489219200-1489250700@envirocenter.org
SUMMARY:Living on a Few Acres Conference
DESCRIPTION:Plan to attend this informative annual conference held on March 10\, 2018 at the Deschutes County Fair & Expo Center in Redmond. Improve your knowledge and acquire new skills by taking courses taught by experts in a variety of subjects. There is something for everyone\, from urban gardeners and hobby farmers to ranch and farm business owners. \nThis educational experience\, presented by the Oregon State University Extension Service\, is a successful collaboration of many Central Oregon agencies\, sponsors\, vendors and volunteers. \nLearn more about the following topics: Food safety from garden to kitchen\, pressure canning\, beginning beekeeping\, enhancing wildlife habitat on your land\, wildlife intervention strategies\, weed management\, soil information\, pasture managment\, growing hay\, raising livestock and poultry\, water rights\, new irrigation projects from COID\, use and calibration of backpack and ATV-mounted sprayers\, irrigation system maintenance and cost share ideas\, and many more. \nRegistration is now open!\nEarly registration deadline March 2nd – $50/person\n$60/person after the deadline
URL:https://envirocenter.org/event/living-acres-conference-3/
LOCATION:Deschutes Brewery Public House\, 1044 NW Bond St\, Bend\, OR\, 97701\, United States
GEO:44.0593984;-121.3113079
X-APPLE-STRUCTURED-LOCATION;VALUE=URI;X-ADDRESS=Deschutes Brewery Public House 1044 NW Bond St Bend OR 97701 United States;X-APPLE-RADIUS=500;X-TITLE=1044 NW Bond St:geo:-121.3113079,44.0593984
END:VEVENT
END:VCALENDAR