BEGIN:VCALENDAR
VERSION:2.0
PRODID:-//The Environmental Center - ECPv6.15.20//NONSGML v1.0//EN
CALSCALE:GREGORIAN
METHOD:PUBLISH
X-WR-CALNAME:The Environmental Center
X-ORIGINAL-URL:https://envirocenter.org
X-WR-CALDESC:Events for The Environmental Center
REFRESH-INTERVAL;VALUE=DURATION:PT1H
X-Robots-Tag:noindex
X-PUBLISHED-TTL:PT1H
BEGIN:VTIMEZONE
TZID:America/Los_Angeles
BEGIN:DAYLIGHT
TZOFFSETFROM:-0800
TZOFFSETTO:-0700
TZNAME:PDT
DTSTART:20160313T100000
END:DAYLIGHT
BEGIN:STANDARD
TZOFFSETFROM:-0700
TZOFFSETTO:-0800
TZNAME:PST
DTSTART:20161106T090000
END:STANDARD
BEGIN:DAYLIGHT
TZOFFSETFROM:-0800
TZOFFSETTO:-0700
TZNAME:PDT
DTSTART:20170312T100000
END:DAYLIGHT
BEGIN:STANDARD
TZOFFSETFROM:-0700
TZOFFSETTO:-0800
TZNAME:PST
DTSTART:20171105T090000
END:STANDARD
BEGIN:DAYLIGHT
TZOFFSETFROM:-0800
TZOFFSETTO:-0700
TZNAME:PDT
DTSTART:20180311T100000
END:DAYLIGHT
BEGIN:STANDARD
TZOFFSETFROM:-0700
TZOFFSETTO:-0800
TZNAME:PST
DTSTART:20181104T090000
END:STANDARD
END:VTIMEZONE
BEGIN:VEVENT
DTSTART;VALUE=DATE:20170225
DTEND;VALUE=DATE:20170226
DTSTAMP:20260422T174136
CREATED:20170202T050432Z
LAST-MODIFIED:20230503T200522Z
UID:10000984-1488013200-1488042000@envirocenter.org
SUMMARY:2017 COBKA Bee School
DESCRIPTION:This year’s Bee School will be held at the Central Oregon Community College and will feature our COBKA Beekeeping 101 class as well as lectures from regional COBKA mentors on topics including but not limited to: \n\nEquipment\nHive types\nBee Suits\nTools\nInstalling bees into a hive\nHive management\nReading the frame\n\nPest control\nThis event is structured to provide attendees with all the information needed to begin beekeeping in Central Oregon.  Our event booklet will include the information discussed during the event as well as handy local supplier contacts\, advice on local plant varieties to encourage pollinators and much more. \nWe will have breaks between lectures to visit with mentors and see different types of hives and beekeeping supplies.  There will be a lunch break with some snacks provided – please bring a sack lunch if you choose. \nWe are working towards reducing waste created by our events: Please bring a water bottle and/or your beverage of choice as we will not be providing beverages in disposable packaging.
URL:https://envirocenter.org/event/2017-cobka-bee-school/
LOCATION:Deschutes Brewery Public House\, 1044 NW Bond St\, Bend\, OR\, 97701\, United States
GEO:44.0593984;-121.3113079
X-APPLE-STRUCTURED-LOCATION;VALUE=URI;X-ADDRESS=Deschutes Brewery Public House 1044 NW Bond St Bend OR 97701 United States;X-APPLE-RADIUS=500;X-TITLE=1044 NW Bond St:geo:-121.3113079,44.0593984
END:VEVENT
BEGIN:VEVENT
DTSTART;VALUE=DATE:20170225
DTEND;VALUE=DATE:20170227
DTSTAMP:20260422T174136
CREATED:20170214T015804Z
LAST-MODIFIED:20230503T200526Z
UID:10000991-1488016800-1488121200@envirocenter.org
SUMMARY:Eagle Watch
DESCRIPTION:The 22nd annual Eagle Watch Celebration is on February 25-26 at Round Butte Overlook Park near Madras. The celebration focuses on the eagles and other raptors that live in the Lake Billy Chinook area. This is a family-friendly event that includes live birds of prey\, wild eagle viewing\, raptor education\, kids activities\, and a special presentation of tribal drumming and dancing by The Quartz Creek Drummers and Dancers. \nThe event is from 10am-4pm on Saturday and 10am-3pm on Sunday.  It is hosted by Oregon Parks and Recreation Department\, Portland General Electric\, Crooked River Grassland\, and the Confederated Tribes of Warm Springs. \nTo learn more\, visit the event facebook page.
URL:https://envirocenter.org/event/eagle-watch-2017-02-25/
LOCATION:Deschutes Brewery Public House\, 1044 NW Bond St\, Bend\, OR\, 97701\, United States
GEO:44.0593984;-121.3113079
X-APPLE-STRUCTURED-LOCATION;VALUE=URI;X-ADDRESS=Deschutes Brewery Public House 1044 NW Bond St Bend OR 97701 United States;X-APPLE-RADIUS=500;X-TITLE=1044 NW Bond St:geo:-121.3113079,44.0593984
END:VEVENT
BEGIN:VEVENT
DTSTART;VALUE=DATE:20170225
DTEND;VALUE=DATE:20170226
DTSTAMP:20260422T174136
CREATED:20170217T042124Z
LAST-MODIFIED:20230503T200530Z
UID:10000995-1488045600-1488052800@envirocenter.org
SUMMARY:VegNet February Potluck
DESCRIPTION:Vegetarian\, vegan\, or veg-curious? Join us at VegNet’s monthly potluck! Bring a vegan dish to serve 4-6 people and your own plate and utensils. Eat\, socialize\, and try for a prize during veggie word scramble. This is a family-friendly\, alcohol-free event. Hope to see you there!
URL:https://envirocenter.org/event/vegnet-february-potluck/
LOCATION:Deschutes Brewery Public House\, 1044 NW Bond St\, Bend\, OR\, 97701\, United States
GEO:44.0593984;-121.3113079
X-APPLE-STRUCTURED-LOCATION;VALUE=URI;X-ADDRESS=Deschutes Brewery Public House 1044 NW Bond St Bend OR 97701 United States;X-APPLE-RADIUS=500;X-TITLE=1044 NW Bond St:geo:-121.3113079,44.0593984
END:VEVENT
BEGIN:VEVENT
DTSTART;VALUE=DATE:20170225
DTEND;VALUE=DATE:20170226
DTSTAMP:20260422T174136
CREATED:20161231T021552Z
LAST-MODIFIED:20230503T200512Z
UID:10000967-1488049200-1488060000@envirocenter.org
SUMMARY:Mountainfilm on Tour: A Fundraiser for The Environmental Center
DESCRIPTION:Mountainfilm is back for its 14th tour in Bend. As always\, the event will showcase the very best of Telluride Mountainfilm Festival\, an annual film festival in Colorado synonymous with the world’s finest film making. \nAll event proceeds benefit The Environmental Center’s mission to embed sustainability into daily life in Central Oregon. \nStay tuned for ticket sales around mid-January\, and visit our Mountainfilm webpage for updated info! \n 
URL:https://envirocenter.org/event/mountainfilm-on-tour-a-fundraiser-for-the-environmental-center-2/
LOCATION:Deschutes Brewery Public House\, 1044 NW Bond St\, Bend\, OR\, 97701\, United States
CATEGORIES:Film
GEO:44.0593984;-121.3113079
X-APPLE-STRUCTURED-LOCATION;VALUE=URI;X-ADDRESS=Deschutes Brewery Public House 1044 NW Bond St Bend OR 97701 United States;X-APPLE-RADIUS=500;X-TITLE=1044 NW Bond St:geo:-121.3113079,44.0593984
END:VEVENT
END:VCALENDAR