BEGIN:VCALENDAR
VERSION:2.0
PRODID:-//The Environmental Center - ECPv6.15.20//NONSGML v1.0//EN
CALSCALE:GREGORIAN
METHOD:PUBLISH
X-ORIGINAL-URL:https://envirocenter.org
X-WR-CALDESC:Events for The Environmental Center
REFRESH-INTERVAL;VALUE=DURATION:PT1H
X-Robots-Tag:noindex
X-PUBLISHED-TTL:PT1H
BEGIN:VTIMEZONE
TZID:America/Los_Angeles
BEGIN:DAYLIGHT
TZOFFSETFROM:-0800
TZOFFSETTO:-0700
TZNAME:PDT
DTSTART:20150308T100000
END:DAYLIGHT
BEGIN:STANDARD
TZOFFSETFROM:-0700
TZOFFSETTO:-0800
TZNAME:PST
DTSTART:20151101T090000
END:STANDARD
BEGIN:DAYLIGHT
TZOFFSETFROM:-0800
TZOFFSETTO:-0700
TZNAME:PDT
DTSTART:20160313T100000
END:DAYLIGHT
BEGIN:STANDARD
TZOFFSETFROM:-0700
TZOFFSETTO:-0800
TZNAME:PST
DTSTART:20161106T090000
END:STANDARD
BEGIN:DAYLIGHT
TZOFFSETFROM:-0800
TZOFFSETTO:-0700
TZNAME:PDT
DTSTART:20170312T100000
END:DAYLIGHT
BEGIN:STANDARD
TZOFFSETFROM:-0700
TZOFFSETTO:-0800
TZNAME:PST
DTSTART:20171105T090000
END:STANDARD
END:VTIMEZONE
BEGIN:VEVENT
DTSTART;VALUE=DATE:20160826
DTEND;VALUE=DATE:20160829
DTSTAMP:20260420T163619
CREATED:20160719T174842Z
LAST-MODIFIED:20160719T174842Z
UID:10002711-1472169600-1472428799@envirocenter.org
SUMMARY:Waldo Weekend Campout
DESCRIPTION:The Oregon Sierra Club Eastside Forest Committee has initiated a campaign to provide greater protection for the forested areas east of Waldo Lake\, a beautiful region 35 miles southwest of Bend containing abundant old growth and roadless areas. Currently it is unprotected beyond its federal forest status. For more information on what we’re proposing\, look at our Keep Waldo Wild web page. This weekend car campout is designed to introduce you Waldo Lake’s environment and treat you to its plentiful attractions. We hope you’ll become as excited about preserving the area east and south of Waldo Lake as we are! \nWho’s Invited?\nEveryone who cares about Waldo Lake and preserving an untrammeled old growth forest experience! Last year we had 50 campers from the Juniper (Bend)\, Many Rivers (Eugene)\, and Mary’s Peak (Corvallis)\, and Columbia (Portland) Sierra Club Groups plus several new faces to all of us. This year\, we’re hoping even more “Waldonians” will join us\, so we’ve again reserved the same group campsite (see below) that will accommodate about 85 campers comfortably. \nWaldo Weekend Campout Reservation Form\nOpen the Google Form using the link above. Answer the questions\, then click on “Submit” at the bottom form. \nCost is $20/person for the weekend.  To confirm a reservation\, we must receive your check made out to Juniper Group Sierra Club and mailed to us at 16 NW Kansas\, Bend 97703.  You should know this may be the last Waldo Campout for a while.
URL:https://envirocenter.org/event/waldo-weekend-campout-2/
LOCATION:Waldo Lake\, OR\, United States
ATTACH;FMTTYPE=image/jpeg:https://envirocenter.org/wp-content/uploads/2016/07/IMG_3522.jpg
ORGANIZER;CN="Juniper Group Sierra Club":MAILTO:juniper.group@oregon.sierraclub.org
END:VEVENT
END:VCALENDAR