BEGIN:VCALENDAR
VERSION:2.0
PRODID:-//The Environmental Center - ECPv6.15.20//NONSGML v1.0//EN
CALSCALE:GREGORIAN
METHOD:PUBLISH
X-ORIGINAL-URL:https://envirocenter.org
X-WR-CALDESC:Events for The Environmental Center
REFRESH-INTERVAL;VALUE=DURATION:PT1H
X-Robots-Tag:noindex
X-PUBLISHED-TTL:PT1H
BEGIN:VTIMEZONE
TZID:America/Los_Angeles
BEGIN:DAYLIGHT
TZOFFSETFROM:-0800
TZOFFSETTO:-0700
TZNAME:PDT
DTSTART:20150308T100000
END:DAYLIGHT
BEGIN:STANDARD
TZOFFSETFROM:-0700
TZOFFSETTO:-0800
TZNAME:PST
DTSTART:20151101T090000
END:STANDARD
BEGIN:DAYLIGHT
TZOFFSETFROM:-0800
TZOFFSETTO:-0700
TZNAME:PDT
DTSTART:20160313T100000
END:DAYLIGHT
BEGIN:STANDARD
TZOFFSETFROM:-0700
TZOFFSETTO:-0800
TZNAME:PST
DTSTART:20161106T090000
END:STANDARD
BEGIN:DAYLIGHT
TZOFFSETFROM:-0800
TZOFFSETTO:-0700
TZNAME:PDT
DTSTART:20170312T100000
END:DAYLIGHT
BEGIN:STANDARD
TZOFFSETFROM:-0700
TZOFFSETTO:-0800
TZNAME:PST
DTSTART:20171105T090000
END:STANDARD
END:VTIMEZONE
BEGIN:VEVENT
DTSTART;TZID=America/Los_Angeles:20160824T070000
DTEND;TZID=America/Los_Angeles:20160824T120000
DTSTAMP:20260420T214821
CREATED:20160719T173410Z
LAST-MODIFIED:20160719T173410Z
UID:10002701-1472022000-1472040000@envirocenter.org
SUMMARY:Wednesday Birders
DESCRIPTION:Meet up with others in our intrepid group for local birding. We meet at Nancy P’s Bakery on Newport Avenue just east of Newport Market in Bend. From there we depart on weekly half day or full day trips to venues in our area. Meet-up times are usually 7AM in the Spring and Summer and 8AM in Fall and Winter. Trip plans are posted on COBOL each week prior to the trip. \nTransportation is via carpool depending on who can drive and individual schedules. Dress for the weather; be prepared with food\, sunscreen\, etc; and bring a pair of binoculars; spotting scopes are helpful on many trips. \nFeb 10 early start\, all day to Willamette Valley refuge\nFeb 17\, Shevlin trails\, River trails Bend\nFeb 24\,  Cold Springs\, Suttle Lake\, Santiam Pass\nMarch 2\, Skyliner area\nMarch 9\, Wastewater ponds\, Hatfield\, Redmond\, etc\nMarch 16\,  Sunriver and south where open water can be found\nMarch 23\, Lower Bridge\, includes knapweed digging\nMarch 30\, Fort Rock\, all day\nApril 6\,  Calliope Crossing\, Green Ridge\nApril 13\, Desert east of Bend\, EARLY start\nApril 20\, Cline Falls SP\, Twin Bridges\, Tumalo State Park\,\nApril 27\, Shevlin Park ***Change****\nMay 4 Shorebirds\, wastewater ponds Bend\, Redmond\, Prineville\nMay 11 River trails Bend and Tumalo for migrants\nMay 18\, GI Ranch\, east of Bend. Birding all day\, bring lunch\, scopes.\nMay 25\, shorebirds\, location TBD\nJune1\, Malheur\, all day\nJune 8 Glaze Meadow\, Black Butte Swamp\, Calliope Crossing\nJune 15\, woodpeckers\, varied locations\nJune 22 Cabin Lake\, Fort Rock and Summer Lake\, all day\, bring lunch\nJune 29\, Gilchrist\, Crescent\, Norther Waterthrush\nJuly 6\, Three Creeks\, Park Meadow trail\, other trails\nJuly 13 Hatfield\, walk 3  miles\nJuly 20 Calliope Crossing\, Jack Lake\nJuly 27\,Green Ridge springs\nAugust 3 High Lakes\, shorebirds\, waterfowl\nAugust 10 Skyliner and Tumalo Falls morning and again evening\nAugust 17\, a.m. Millican Valley\, return in evening\, over night optional at Pine Mountain\nAugust  24 Calliope Crossing\, Black Butte Swamp\nAugust 31\, shorebirds\nSept 7 Wickiup\, Crane Prairie\, Vaux’s Swifts evening\, Bend\nSept 14\, Malheur all day\nSept 21 Green Ridge raptors\, grouse\, woodpeckers\, all day birding\nSept 28\, Fort Rock and Summer Lake\, all day\nOct  5\,  high lakes\, Crane Prairie and Wickiup\nOct 12 Hatfield ponds\, Alfalfa\nOct 19 coastal birding\, 2 or 3 days\, seawatching a.m.\, passerines and land PMs.\nOct 26 Mill Creek\, Ochocos area
URL:https://envirocenter.org/event/wednesday-birders-6/2016-08-24/
LOCATION:Nancy P’s\, 1054 Milwaukee\, Bend\, OR\, 97701\, United States
ORGANIZER;CN="East Cascades Audubon Society":MAILTO:jon.g.putnam@bendbroadband.com
GEO:44.0617645;-121.3274258
X-APPLE-STRUCTURED-LOCATION;VALUE=URI;X-ADDRESS=Nancy P’s 1054 Milwaukee Bend OR 97701 United States;X-APPLE-RADIUS=500;X-TITLE=1054 Milwaukee:geo:-121.3274258,44.0617645
END:VEVENT
BEGIN:VEVENT
DTSTART;VALUE=DATE:20160824
DTEND;VALUE=DATE:20160825
DTSTAMP:20260420T214821
CREATED:20160803T050112Z
LAST-MODIFIED:20230503T200441Z
UID:10000574-1472029200-1472043600@envirocenter.org
SUMMARY:Safe Sprouts Biking
DESCRIPTION:Join Commute Options and the Environmental Center as we teach your child the fundamentals for safe biking this summer. This half day class will help provide your child the fundamentals needed to bike safe on roads around town with an adult. We will spend the day practicing hand signals\, looking out for cars\, stopping and going\, playing games and having fun while biking. If you have a child entering kindergarten to second grade\, sign them up for this intro to safe riding skills. They must have their own bike and be able to ride it prior to this class. Parents are invited to join us on our community ride for lunch. Contact Jackie@envirocenter.org or willow@commuteoptions.org to reserve your space \n 
URL:https://envirocenter.org/event/safe-sprouts-biking/
LOCATION:Deschutes Brewery Public House\, 1044 NW Bond St\, Bend\, OR\, 97701\, United States
GEO:44.0593984;-121.3113079
X-APPLE-STRUCTURED-LOCATION;VALUE=URI;X-ADDRESS=Deschutes Brewery Public House 1044 NW Bond St Bend OR 97701 United States;X-APPLE-RADIUS=500;X-TITLE=1044 NW Bond St:geo:-121.3113079,44.0593984
END:VEVENT
END:VCALENDAR