BEGIN:VCALENDAR
VERSION:2.0
PRODID:-//The Environmental Center - ECPv6.15.20//NONSGML v1.0//EN
CALSCALE:GREGORIAN
METHOD:PUBLISH
X-ORIGINAL-URL:https://envirocenter.org
X-WR-CALDESC:Events for The Environmental Center
REFRESH-INTERVAL;VALUE=DURATION:PT1H
X-Robots-Tag:noindex
X-PUBLISHED-TTL:PT1H
BEGIN:VTIMEZONE
TZID:America/Los_Angeles
BEGIN:DAYLIGHT
TZOFFSETFROM:-0800
TZOFFSETTO:-0700
TZNAME:PDT
DTSTART:20150308T100000
END:DAYLIGHT
BEGIN:STANDARD
TZOFFSETFROM:-0700
TZOFFSETTO:-0800
TZNAME:PST
DTSTART:20151101T090000
END:STANDARD
BEGIN:DAYLIGHT
TZOFFSETFROM:-0800
TZOFFSETTO:-0700
TZNAME:PDT
DTSTART:20160313T100000
END:DAYLIGHT
BEGIN:STANDARD
TZOFFSETFROM:-0700
TZOFFSETTO:-0800
TZNAME:PST
DTSTART:20161106T090000
END:STANDARD
BEGIN:DAYLIGHT
TZOFFSETFROM:-0800
TZOFFSETTO:-0700
TZNAME:PDT
DTSTART:20170312T100000
END:DAYLIGHT
BEGIN:STANDARD
TZOFFSETFROM:-0700
TZOFFSETTO:-0800
TZNAME:PST
DTSTART:20171105T090000
END:STANDARD
END:VTIMEZONE
BEGIN:VEVENT
DTSTART;VALUE=DATE:20160701
DTEND;VALUE=DATE:20160702
DTSTAMP:20260420T113010
CREATED:20160527T220049Z
LAST-MODIFIED:20230503T200424Z
UID:10000547-1467331200-1467417599@envirocenter.org
SUMMARY:Deadline: Register your project for the SOLVE Beach & Riverside Cleanup
DESCRIPTION:Do you have an idea for a cleanup or restoration project in your local neighborhood\, park or waterway? SOLVE would love to support your project(s) with free supplies\, statewide volunteer recruitment\, and more as part of the 33rd Annual Beach & Riverside Cleanup. \nPart of the International Coastal Cleanup and National Public Lands Day\, projects will take place on Saturday\, September 24\, 2016\, from 10 am – 1 pm (times may vary). In addition\, projects involving students will occur the week before and the week after the Saturday event. \nClick here to submit your project application by July 1! \nSOLVE supports projects that engage volunteers in Oregon in cleanup of litter and illegal dump sites\, invasive plant removal\, native tree and shrub planting\, and watershed maintenance and monitoring activities. In 2015\, more than 5\,200 volunteers came out to over 120 Beach & Riverside Cleanup sites statewide. \nDetailed support provided by SOLVE for approved community volunteer projects: \n\nProject planning assistance by SOLVE staff\nVolunteer Coordinator training\nProject Planning Reference Guide (step-by-step guide to coordinating a SOLVE project)\nEvent flyers and pre-event publicity\nAssistance with volunteer recruitment and placement\, including online registration\, confirmation emails to all online registrants\, and volunteer registration/waiver forms\nFree materials such as litter bags\, vinyl gloves\, safety vests\, first aid kits\, and sharps containers\n\nIn addition\, a limited number of Beach & Riverside Cleanup projects may receive: \n\nA maximum reimbursement of up to $100.00 to cover qualifying project expenses
URL:https://envirocenter.org/event/deadline-register-your-project-for-the-solve-beach-riverside-cleanup/
LOCATION:Deschutes Brewery Public House\, 1044 NW Bond St\, Bend\, OR\, 97701\, United States
GEO:44.0593984;-121.3113079
X-APPLE-STRUCTURED-LOCATION;VALUE=URI;X-ADDRESS=Deschutes Brewery Public House 1044 NW Bond St Bend OR 97701 United States;X-APPLE-RADIUS=500;X-TITLE=1044 NW Bond St:geo:-121.3113079,44.0593984
END:VEVENT
END:VCALENDAR