BEGIN:VCALENDAR
VERSION:2.0
PRODID:-//The Environmental Center - ECPv6.15.20//NONSGML v1.0//EN
CALSCALE:GREGORIAN
METHOD:PUBLISH
X-WR-CALNAME:The Environmental Center
X-ORIGINAL-URL:https://envirocenter.org
X-WR-CALDESC:Events for The Environmental Center
REFRESH-INTERVAL;VALUE=DURATION:PT1H
X-Robots-Tag:noindex
X-PUBLISHED-TTL:PT1H
BEGIN:VTIMEZONE
TZID:America/Los_Angeles
BEGIN:DAYLIGHT
TZOFFSETFROM:-0800
TZOFFSETTO:-0700
TZNAME:PDT
DTSTART:20150308T100000
END:DAYLIGHT
BEGIN:STANDARD
TZOFFSETFROM:-0700
TZOFFSETTO:-0800
TZNAME:PST
DTSTART:20151101T090000
END:STANDARD
BEGIN:DAYLIGHT
TZOFFSETFROM:-0800
TZOFFSETTO:-0700
TZNAME:PDT
DTSTART:20160313T100000
END:DAYLIGHT
BEGIN:STANDARD
TZOFFSETFROM:-0700
TZOFFSETTO:-0800
TZNAME:PST
DTSTART:20161106T090000
END:STANDARD
BEGIN:DAYLIGHT
TZOFFSETFROM:-0800
TZOFFSETTO:-0700
TZNAME:PDT
DTSTART:20170312T100000
END:DAYLIGHT
BEGIN:STANDARD
TZOFFSETFROM:-0700
TZOFFSETTO:-0800
TZNAME:PST
DTSTART:20171105T090000
END:STANDARD
END:VTIMEZONE
BEGIN:VEVENT
DTSTART;VALUE=DATE:20160607
DTEND;VALUE=DATE:20160608
DTSTAMP:20260420T145359
CREATED:20220503T062049Z
LAST-MODIFIED:20230503T210434Z
UID:10000516-1465315200-1465322400@envirocenter.org
SUMMARY:Happy Hour in the Garden
DESCRIPTION:This year\, Happy Hour in the Garden will run from March through October. Instead of weekly\, this volunteer event will be on the *1st & 3rd Tuesdays*\, kicking off Tuesday\, March 1st. Stop by anytime between 4-6 on the following dates to help out in the garden and enjoy a bubbly beverage. Family friendly\, no experience or tools necessary. \nContact Denise Rowcroft\, Garden Program Manager\, if you have any questions about getting involved. \n\nMarch 1 & 15 (March & April beer sponsored by Worthy Garden Club)\nApril 5 & 19\nMay 3 & 17 (May & June beer sponsored by Boneyard Beer)\nJune 7 & 21\n\nDue to summer trips\, please note that summer dates (July & August) are the 2nd & 4th Tuesdays of the month! \n\n*July 12 & 26* (July & August beer sponsored by Deschutes Brewery)\n*August 9 & 23* (Note\, this is the 2nd & 4th Tuesday\, rescheduled due to planned time off)\nSeptember 6 & 20 (Sept & Oct beer sponsored by 10 Barrel Brewing Co)\nOctober 4 & 18
URL:https://envirocenter.org/event/happy-hour-in-the-garden-12-2022-08-09/
LOCATION:Deschutes Brewery Public House\, 1044 NW Bond St\, Bend\, OR\, 97701\, United States
CATEGORIES:Garden
GEO:44.0593984;-121.3113079
X-APPLE-STRUCTURED-LOCATION;VALUE=URI;X-ADDRESS=Deschutes Brewery Public House 1044 NW Bond St Bend OR 97701 United States;X-APPLE-RADIUS=500;X-TITLE=1044 NW Bond St:geo:-121.3113079,44.0593984
END:VEVENT
BEGIN:VEVENT
DTSTART;VALUE=DATE:20160607
DTEND;VALUE=DATE:20160608
DTSTAMP:20260420T145359
CREATED:20160507T055035Z
LAST-MODIFIED:20230503T200419Z
UID:10002643-1465322400-1465327800@envirocenter.org
SUMMARY:Our Deschutes River: Where Does the Water Go\, and Why?
DESCRIPTION:If there’s so much water in the Deschutes Basin (and there is)\, why is everyone talking about the lack of water in the river? Where’s the water going? Who are the players\, and what’s with all the acronyms? \nWater world can be confusing! If you would like to learn more\, please join us for a presentation and discussion with Tod Heisler\, Executive Director of the Deschutes River Conservancy. \nTod will give an overview of how water is managed in the Deschutes Basin and how flows in the Deschutes River can be restored.
URL:https://envirocenter.org/event/our-deschutes-river-where-does-the-water-go-and-why/
LOCATION:Deschutes Brewery Public House\, 1044 NW Bond St\, Bend\, OR\, 97701\, United States
GEO:44.0593984;-121.3113079
X-APPLE-STRUCTURED-LOCATION;VALUE=URI;X-ADDRESS=Deschutes Brewery Public House 1044 NW Bond St Bend OR 97701 United States;X-APPLE-RADIUS=500;X-TITLE=1044 NW Bond St:geo:-121.3113079,44.0593984
END:VEVENT
BEGIN:VEVENT
DTSTART;TZID=America/Los_Angeles:20160607T183000
DTEND;TZID=America/Los_Angeles:20160607T203000
DTSTAMP:20260420T145359
CREATED:20160518T153021Z
LAST-MODIFIED:20160518T153021Z
UID:10000544-1465324200-1465331400@envirocenter.org
SUMMARY:Green Team Movie Night
DESCRIPTION:Rachel Carson’s “Silent Spring” presents the life of the marine biologist and nature author whose book “Silent Spring” sounded the alarm that launched the environmental movement. \nBill Moyers Journal\, “Rachel Carson\, Nature’s Guardian” intertwines excerpts of Kaiulani Lee’s one-woman play “A Sense of Wonder” about Carson’s life with interviews of the actress and historical footage of Carson’s life. \nFree. Questions? Call Nancy Merrick: 541-815-6504.
URL:https://envirocenter.org/event/green-team-movie-night-8/
LOCATION:First Presbyterian Church\, 230 NE Ninth St.\, Bend\, OR\, 97701\, United States
ATTACH;FMTTYPE=image/jpeg:https://envirocenter.org/wp-content/uploads/2016/05/rachel-carson.jpg
GEO:44.0525356;-121.2921895
X-APPLE-STRUCTURED-LOCATION;VALUE=URI;X-ADDRESS=First Presbyterian Church 230 NE Ninth St. Bend OR 97701 United States;X-APPLE-RADIUS=500;X-TITLE=230 NE Ninth St.:geo:-121.2921895,44.0525356
END:VEVENT
END:VCALENDAR