BEGIN:VCALENDAR
VERSION:2.0
PRODID:-//The Environmental Center - ECPv6.15.20//NONSGML v1.0//EN
CALSCALE:GREGORIAN
METHOD:PUBLISH
X-ORIGINAL-URL:https://envirocenter.org
X-WR-CALDESC:Events for The Environmental Center
REFRESH-INTERVAL;VALUE=DURATION:PT1H
X-Robots-Tag:noindex
X-PUBLISHED-TTL:PT1H
BEGIN:VTIMEZONE
TZID:America/Los_Angeles
BEGIN:DAYLIGHT
TZOFFSETFROM:-0800
TZOFFSETTO:-0700
TZNAME:PDT
DTSTART:20140309T100000
END:DAYLIGHT
BEGIN:STANDARD
TZOFFSETFROM:-0700
TZOFFSETTO:-0800
TZNAME:PST
DTSTART:20141102T090000
END:STANDARD
BEGIN:DAYLIGHT
TZOFFSETFROM:-0800
TZOFFSETTO:-0700
TZNAME:PDT
DTSTART:20150308T100000
END:DAYLIGHT
BEGIN:STANDARD
TZOFFSETFROM:-0700
TZOFFSETTO:-0800
TZNAME:PST
DTSTART:20151101T090000
END:STANDARD
BEGIN:DAYLIGHT
TZOFFSETFROM:-0800
TZOFFSETTO:-0700
TZNAME:PDT
DTSTART:20160313T100000
END:DAYLIGHT
BEGIN:STANDARD
TZOFFSETFROM:-0700
TZOFFSETTO:-0800
TZNAME:PST
DTSTART:20161106T090000
END:STANDARD
END:VTIMEZONE
BEGIN:VEVENT
DTSTART;VALUE=DATE:20150630
DTEND;VALUE=DATE:20150701
DTSTAMP:20260421T050924
CREATED:20150519T203912Z
LAST-MODIFIED:20230503T200255Z
UID:10002485-1435690800-1435701600@envirocenter.org
SUMMARY:KPOV’s 10th Anniversary Celebration
DESCRIPTION:Yes\, KPOV  has been bringing Central Oregon the best radio around for nearly a decade.\nWe can’t think of a better way to celebrate our 10th Anniversary than gathering with our community for an evening of fun and friendship. Join us June 30\, 2015 at 7:00 p.m. at the Tower Theatre in Bend for “High Desert Community Radio—Live and in Living Color.” The variety show will feature performers Five Pint Mary\, Dennis McGregor and the Spoilers\, MOsley WOtta\, Triage Improv\, the Around the Bend Players\, Comic Celeste Franklin\, the Parade of DJs\, a fun look at KPOV history\, great raffle prizes and more.\nWhen\, Where and How\n\n7:00 pm\, Tuesday\, June 30\, Year 10 (2015)\nThe Tower Theatre\, 835 NW Wall St in Bend\nTickets go on sale May 21 at the Tower Box Office.\nTicket prices are: $20 in advance\, $18 in advance for KPOV members\, $25 at the door for all
URL:https://envirocenter.org/event/kpovs-10th-anniversary-celebration/
LOCATION:Deschutes Brewery Public House\, 1044 NW Bond St\, Bend\, OR\, 97701\, United States
GEO:44.0593984;-121.3113079
X-APPLE-STRUCTURED-LOCATION;VALUE=URI;X-ADDRESS=Deschutes Brewery Public House 1044 NW Bond St Bend OR 97701 United States;X-APPLE-RADIUS=500;X-TITLE=1044 NW Bond St:geo:-121.3113079,44.0593984
END:VEVENT
END:VCALENDAR