BEGIN:VCALENDAR
VERSION:2.0
PRODID:-//The Environmental Center - ECPv6.15.20//NONSGML v1.0//EN
CALSCALE:GREGORIAN
METHOD:PUBLISH
X-ORIGINAL-URL:https://envirocenter.org
X-WR-CALDESC:Events for The Environmental Center
REFRESH-INTERVAL;VALUE=DURATION:PT1H
X-Robots-Tag:noindex
X-PUBLISHED-TTL:PT1H
BEGIN:VTIMEZONE
TZID:America/Los_Angeles
BEGIN:DAYLIGHT
TZOFFSETFROM:-0800
TZOFFSETTO:-0700
TZNAME:PDT
DTSTART:20130310T100000
END:DAYLIGHT
BEGIN:STANDARD
TZOFFSETFROM:-0700
TZOFFSETTO:-0800
TZNAME:PST
DTSTART:20131103T090000
END:STANDARD
BEGIN:DAYLIGHT
TZOFFSETFROM:-0800
TZOFFSETTO:-0700
TZNAME:PDT
DTSTART:20140309T100000
END:DAYLIGHT
BEGIN:STANDARD
TZOFFSETFROM:-0700
TZOFFSETTO:-0800
TZNAME:PST
DTSTART:20141102T090000
END:STANDARD
BEGIN:DAYLIGHT
TZOFFSETFROM:-0800
TZOFFSETTO:-0700
TZNAME:PDT
DTSTART:20150308T100000
END:DAYLIGHT
BEGIN:STANDARD
TZOFFSETFROM:-0700
TZOFFSETTO:-0800
TZNAME:PST
DTSTART:20151101T090000
END:STANDARD
END:VTIMEZONE
BEGIN:VEVENT
DTSTART;VALUE=DATE:20140426
DTEND;VALUE=DATE:20140427
DTSTAMP:20260422T174109
CREATED:20140412T022301Z
LAST-MODIFIED:20230503T200009Z
UID:10000022-1398499200-1398553200@envirocenter.org
SUMMARY:Bird Walk\, Camp Polk Meadow
DESCRIPTION:Join the Deschutes Land Trust and Bill Mitchell for a bird walk at Camp Polk Meadow Preserve.\nEnjoy spring bird migrations to the fullest as you watch for songbirds and hummingbirds in the\nwillows\, warblers along the restored Whychus Creek\, and woodpeckers working the pine groves.\nExplore this Sisters-area Preserve that is considered a birding hot spot with more than 165\nspecies observed! \nRegistration is required and opens 1 month prior to the event. Please register\nonline at www.deschuteslandtrust.org/events. \nRating: Moderate\, ~2 mile walk.\nWhat to Bring: Binoculars\, snacks\, water\, sturdy hiking shoes. Dress for the weather.
URL:https://envirocenter.org/event/bird-walk-camp-polk-meadow/
LOCATION:Deschutes Brewery Public House\, 1044 NW Bond St\, Bend\, OR\, 97701\, United States
GEO:44.0593984;-121.3113079
X-APPLE-STRUCTURED-LOCATION;VALUE=URI;X-ADDRESS=Deschutes Brewery Public House 1044 NW Bond St Bend OR 97701 United States;X-APPLE-RADIUS=500;X-TITLE=1044 NW Bond St:geo:-121.3113079,44.0593984
END:VEVENT
BEGIN:VEVENT
DTSTART;VALUE=DATE:20140426
DTEND;VALUE=DATE:20140427
DTSTAMP:20260422T174109
CREATED:20140412T022519Z
LAST-MODIFIED:20230503T200009Z
UID:10000023-1398502800-1398513600@envirocenter.org
SUMMARY:Water + Wood\, Skyline Forest
DESCRIPTION:Join the Deschutes Land Trust and Leslie Olson for a historic hike in Skyline Forest. Water and\nwood played an important role in the formation of Bend. Explore Bend’s early logging history by\nvisiting the site of a 1916 lumber mill in Skyline Forest. Then\, hike along the Columbia Southern canal to learn how water and irrigation impacted early settlement. \nRegistration is required and\nopens 1 month prior to the event. Please register online at www.deschuteslandtrust.org/events. \nRating: Moderate\, ~3 mile hike.\nWhat to Bring: Snacks/lunch\, water\, sturdy hiking shoes. Dress for the weather.
URL:https://envirocenter.org/event/water-wood-skyline-forest/
LOCATION:Deschutes Brewery Public House\, 1044 NW Bond St\, Bend\, OR\, 97701\, United States
GEO:44.0593984;-121.3113079
X-APPLE-STRUCTURED-LOCATION;VALUE=URI;X-ADDRESS=Deschutes Brewery Public House 1044 NW Bond St Bend OR 97701 United States;X-APPLE-RADIUS=500;X-TITLE=1044 NW Bond St:geo:-121.3113079,44.0593984
END:VEVENT
BEGIN:VEVENT
DTSTART;VALUE=DATE:20140426
DTEND;VALUE=DATE:20140427
DTSTAMP:20260422T174109
CREATED:20150309T234615Z
LAST-MODIFIED:20230503T200216Z
UID:10002132-1398502800-1398513600@envirocenter.org
SUMMARY:Hollinshead Community Garden Opening Day
DESCRIPTION:Registration for a vegetable garden plot is done in-person at Hollinshead Park on a 1st-come\, 1st-served basis. The line forms early and is outdoors\, so dress for the weather. A waiting list will be taken as well. \nCall 541-383-3905 or 541-977-7661 for more info.
URL:https://envirocenter.org/event/hollinshead-community-garden-opening-day-2/
LOCATION:Deschutes Brewery Public House\, 1044 NW Bond St\, Bend\, OR\, 97701\, United States
GEO:44.0593984;-121.3113079
X-APPLE-STRUCTURED-LOCATION;VALUE=URI;X-ADDRESS=Deschutes Brewery Public House 1044 NW Bond St Bend OR 97701 United States;X-APPLE-RADIUS=500;X-TITLE=1044 NW Bond St:geo:-121.3113079,44.0593984
END:VEVENT
BEGIN:VEVENT
DTSTART;VALUE=DATE:20140426
DTEND;VALUE=DATE:20140427
DTSTAMP:20260422T174109
CREATED:20180324T095616Z
LAST-MODIFIED:20230503T200701Z
UID:10002149-1398502800-1398513600@envirocenter.org
SUMMARY:Spring Garden Work Party
DESCRIPTION:Join us in the Kansas Avenue Learning Garden at The Environmental Center to get the garden ready for spring! We will have tasks\, tools\, coffee and snacks on hand. Come dressed for the weather\, bring garden gloves if you have them (we have a bunch\, you just might not have a matching pair 🙂 and be prepared to get dirty and get things done! This is a family friendly event\, and we try to have jobs for little ones too. Contact denise if you have any further questions about the event.
URL:https://envirocenter.org/event/spring-garden-work-party-2/
LOCATION:Deschutes Brewery Public House\, 1044 NW Bond St\, Bend\, OR\, 97701\, United States
CATEGORIES:Garden
GEO:44.0593984;-121.3113079
X-APPLE-STRUCTURED-LOCATION;VALUE=URI;X-ADDRESS=Deschutes Brewery Public House 1044 NW Bond St Bend OR 97701 United States;X-APPLE-RADIUS=500;X-TITLE=1044 NW Bond St:geo:-121.3113079,44.0593984
END:VEVENT
BEGIN:VEVENT
DTSTART;VALUE=DATE:20140426
DTEND;VALUE=DATE:20140427
DTSTAMP:20260422T174109
CREATED:20150309T234810Z
LAST-MODIFIED:20230503T200217Z
UID:10002133-1398504600-1398511800@envirocenter.org
SUMMARY:NorthWest Crossing Community Garden Opening Day
DESCRIPTION:Registration for a raised bed garden plot is done in-person at NorthWest Crossing Community Garden on a 1st-come\, 1st-served basis. The line forms early and is outdoors\, so dress for the weather. A waiting list will be taken as well. \nLocation: Corner of NW Crossing Dr & Charbonneau St near Summit H. S.\, Bend \nFor more info\, call 541-318-5759 or 541-678-5949.
URL:https://envirocenter.org/event/northwest-crossing-community-garden-opening-day-2/
LOCATION:Deschutes Brewery Public House\, 1044 NW Bond St\, Bend\, OR\, 97701\, United States
GEO:44.0593984;-121.3113079
X-APPLE-STRUCTURED-LOCATION;VALUE=URI;X-ADDRESS=Deschutes Brewery Public House 1044 NW Bond St Bend OR 97701 United States;X-APPLE-RADIUS=500;X-TITLE=1044 NW Bond St:geo:-121.3113079,44.0593984
END:VEVENT
END:VCALENDAR