BEGIN:VCALENDAR
VERSION:2.0
PRODID:-//The Environmental Center - ECPv6.15.20//NONSGML v1.0//EN
CALSCALE:GREGORIAN
METHOD:PUBLISH
X-ORIGINAL-URL:https://envirocenter.org
X-WR-CALDESC:Events for The Environmental Center
REFRESH-INTERVAL;VALUE=DURATION:PT1H
X-Robots-Tag:noindex
X-PUBLISHED-TTL:PT1H
BEGIN:VTIMEZONE
TZID:America/Los_Angeles
BEGIN:DAYLIGHT
TZOFFSETFROM:-0800
TZOFFSETTO:-0700
TZNAME:PDT
DTSTART:20130310T100000
END:DAYLIGHT
BEGIN:STANDARD
TZOFFSETFROM:-0700
TZOFFSETTO:-0800
TZNAME:PST
DTSTART:20131103T090000
END:STANDARD
BEGIN:DAYLIGHT
TZOFFSETFROM:-0800
TZOFFSETTO:-0700
TZNAME:PDT
DTSTART:20140309T100000
END:DAYLIGHT
BEGIN:STANDARD
TZOFFSETFROM:-0700
TZOFFSETTO:-0800
TZNAME:PST
DTSTART:20141102T090000
END:STANDARD
BEGIN:DAYLIGHT
TZOFFSETFROM:-0800
TZOFFSETTO:-0700
TZNAME:PDT
DTSTART:20150308T100000
END:DAYLIGHT
BEGIN:STANDARD
TZOFFSETFROM:-0700
TZOFFSETTO:-0800
TZNAME:PST
DTSTART:20151101T090000
END:STANDARD
END:VTIMEZONE
BEGIN:VEVENT
DTSTART;VALUE=DATE:20140425
DTEND;VALUE=DATE:20140426
DTSTAMP:20260422T161921
CREATED:20140412T021942Z
LAST-MODIFIED:20230503T200009Z
UID:10002157-1398420000-1398434400@envirocenter.org
SUMMARY:Wildflower Hike\, Whychus Canyon
DESCRIPTION:Join the Deschutes Land Trust and Jane Meissner for a spring hike at Whychus Canyon\nPreserve. Explore ancient juniper groves and learn about native plants as you hike through the\ngrasslands towards a scenic boulder overlook. Watch for early wildflowers like spring gold and\nsandlilies that bloom first on sun-warmed sagelands. Registration is required and opens 1 month\nprior to the event. \nPlease register online at www.deschuteslandtrust.org/events. \nRating: Moderate\, ~3 mile hike.\nWhat to Bring: Snacks/lunch\, water\, sturdy hiking shoes. Dress for the weather.
URL:https://envirocenter.org/event/wildflower-hike-whychus-canyon/
LOCATION:Deschutes Brewery Public House\, 1044 NW Bond St\, Bend\, OR\, 97701\, United States
GEO:44.0593984;-121.3113079
X-APPLE-STRUCTURED-LOCATION;VALUE=URI;X-ADDRESS=Deschutes Brewery Public House 1044 NW Bond St Bend OR 97701 United States;X-APPLE-RADIUS=500;X-TITLE=1044 NW Bond St:geo:-121.3113079,44.0593984
END:VEVENT
BEGIN:VEVENT
DTSTART;VALUE=DATE:20140425
DTEND;VALUE=DATE:20140426
DTSTAMP:20260422T161921
CREATED:20140412T022131Z
LAST-MODIFIED:20230503T200009Z
UID:10000021-1398423600-1398430800@envirocenter.org
SUMMARY:Boyer Hike
DESCRIPTION:Join the Deschutes Land Trust and Ashley Lowrey for a hike around a conserved private property\nin Cloverdale. We’ll hike through old-growth juniper forests taking time to explore natural wetland\nseeps and intriguing geologic features. Then\, we’ll hike up Fryrear Butte and stop at the summit\nfor a relaxed lunch to enjoy the panoramic views of the mountains and surrounding landscape. \nRegistration is required and opens 1 month prior to the event. Please register online at\nwww.deschuteslandtrust.org/events. \nRating: Moderate\, ~3 mile hike.\nWhat to Bring: Snacks/lunch\, water\, sturdy hiking shoes. Dress for the weather
URL:https://envirocenter.org/event/boyer-hike/
LOCATION:Deschutes Brewery Public House\, 1044 NW Bond St\, Bend\, OR\, 97701\, United States
GEO:44.0593984;-121.3113079
X-APPLE-STRUCTURED-LOCATION;VALUE=URI;X-ADDRESS=Deschutes Brewery Public House 1044 NW Bond St Bend OR 97701 United States;X-APPLE-RADIUS=500;X-TITLE=1044 NW Bond St:geo:-121.3113079,44.0593984
END:VEVENT
END:VCALENDAR