BEGIN:VCALENDAR
VERSION:2.0
PRODID:-//The Environmental Center - ECPv6.15.20//NONSGML v1.0//EN
CALSCALE:GREGORIAN
METHOD:PUBLISH
X-ORIGINAL-URL:https://envirocenter.org
X-WR-CALDESC:Events for The Environmental Center
REFRESH-INTERVAL;VALUE=DURATION:PT1H
X-Robots-Tag:noindex
X-PUBLISHED-TTL:PT1H
BEGIN:VTIMEZONE
TZID:America/Los_Angeles
BEGIN:DAYLIGHT
TZOFFSETFROM:-0800
TZOFFSETTO:-0700
TZNAME:PDT
DTSTART:20130310T100000
END:DAYLIGHT
BEGIN:STANDARD
TZOFFSETFROM:-0700
TZOFFSETTO:-0800
TZNAME:PST
DTSTART:20131103T090000
END:STANDARD
BEGIN:DAYLIGHT
TZOFFSETFROM:-0800
TZOFFSETTO:-0700
TZNAME:PDT
DTSTART:20140309T100000
END:DAYLIGHT
BEGIN:STANDARD
TZOFFSETFROM:-0700
TZOFFSETTO:-0800
TZNAME:PST
DTSTART:20141102T090000
END:STANDARD
BEGIN:DAYLIGHT
TZOFFSETFROM:-0800
TZOFFSETTO:-0700
TZNAME:PDT
DTSTART:20150308T100000
END:DAYLIGHT
BEGIN:STANDARD
TZOFFSETFROM:-0700
TZOFFSETTO:-0800
TZNAME:PST
DTSTART:20151101T090000
END:STANDARD
END:VTIMEZONE
BEGIN:VEVENT
DTSTART;VALUE=DATE:20140419
DTEND;VALUE=DATE:20140420
DTSTAMP:20260422T174110
CREATED:20220311T082416Z
LAST-MODIFIED:20230503T201426Z
UID:10002131-1397894400-1397925000@envirocenter.org
SUMMARY:Spring Gardening Seminar
DESCRIPTION:Perennials and Shrubs in Central Oregon taught by Holly Shafer\, owner Whistle Stop Farm and Flowers \nWith so many plants to choose from at local garden centers it can be confusing as to what does well here in Central Oregon. I will show you some hardy perennials and shrubs that will thrive in your garden. I will also give some tips on planting and care to get them off to a great start!
URL:https://envirocenter.org/event/spring-gardening-seminar-4/
LOCATION:Deschutes Brewery Public House\, 1044 NW Bond St\, Bend\, OR\, 97701\, United States
CATEGORIES:Garden
GEO:44.0593984;-121.3113079
X-APPLE-STRUCTURED-LOCATION;VALUE=URI;X-ADDRESS=Deschutes Brewery Public House 1044 NW Bond St Bend OR 97701 United States;X-APPLE-RADIUS=500;X-TITLE=1044 NW Bond St:geo:-121.3113079,44.0593984
END:VEVENT
BEGIN:VEVENT
DTSTART;VALUE=DATE:20140419
DTEND;VALUE=DATE:20140420
DTSTAMP:20260422T174110
CREATED:20140225T064731Z
LAST-MODIFIED:20230503T195954Z
UID:10002115-1397894400-1397926800@envirocenter.org
SUMMARY:Banff Mountain Film Festival World Tour
DESCRIPTION:Hot on the heels of the festival held every fall in Banff\, Alberta\, the Banff Mountain Film Festival World Tour hits the road\, and we brought it to Bend! \nOn Saturday April 19th 2014\, REALMS will proudly present the Banff Mountain Film Festival World Tour at Summit High School’s Auditorium in Bend\, OR. \nTickets go on sale here Saturday March 1st. \nThe Banff Mountain Film Festival\, a program of The Banff Centre\, is the largest\, and one of the most prestigious\, mountain festivals in the world. With stops planned in about 350 communities and 32 countries across the globe\, this year’s tour features a collection of the most inspiring action\, environmental\, and adventure films from the festival. \nTraveling to exotic landscapes and remote cultures\, and bringing audiences up-close and personal with adrenaline-packed action sports\, the 2012-13 World Tour is an exhilarating and provocative exploration of the mountain world. \nFrom approximately 260 films entered into the annual festival\, award-winning films and audience favorites are among the films chosen to travel the globe.
URL:https://envirocenter.org/event/banff-mountain-film-festival-world-tour/
LOCATION:Deschutes Brewery Public House\, 1044 NW Bond St\, Bend\, OR\, 97701\, United States
GEO:44.0593984;-121.3113079
X-APPLE-STRUCTURED-LOCATION;VALUE=URI;X-ADDRESS=Deschutes Brewery Public House 1044 NW Bond St Bend OR 97701 United States;X-APPLE-RADIUS=500;X-TITLE=1044 NW Bond St:geo:-121.3113079,44.0593984
END:VEVENT
BEGIN:VEVENT
DTSTART;VALUE=DATE:20140419
DTEND;VALUE=DATE:20140420
DTSTAMP:20260422T174110
CREATED:20180113T054305Z
LAST-MODIFIED:20230503T200646Z
UID:10002094-1397905200-1397919600@envirocenter.org
SUMMARY:Earth Day Fair & Parade
DESCRIPTION:Join The Environmental Center for a fun and festive celebration of the natural world! Our day of festivities kicks off with a colorful\, creative parade filled with children and adults costumed as their favorite plant or animal. Get ready for the parade by creating your own costume! \n11:00 am: Assemble on Louisiana Avenue next to McMenamin’s \n11:30am: Parade starts (about 8 blocks through downtown Bend and ends at the Earth Day Fair) \nNo motorized vehicles or written words allowed in the parade. Well-behaved dogs on leashes are allowed. \nFollowing the parade\, there will be live music\, local businesses\, a variety of food\, and great hands-on activities and games for all ages. The fair takes place on Kansas Avenue in front of The Environmental Center (downtown Bend).
URL:https://envirocenter.org/event/earth-day-fair-parade-4/
LOCATION:Deschutes Brewery Public House\, 1044 NW Bond St\, Bend\, OR\, 97701\, United States
GEO:44.0593984;-121.3113079
X-APPLE-STRUCTURED-LOCATION;VALUE=URI;X-ADDRESS=Deschutes Brewery Public House 1044 NW Bond St Bend OR 97701 United States;X-APPLE-RADIUS=500;X-TITLE=1044 NW Bond St:geo:-121.3113079,44.0593984
END:VEVENT
BEGIN:VEVENT
DTSTART;VALUE=DATE:20140419
DTEND;VALUE=DATE:20140420
DTSTAMP:20260422T174110
CREATED:20140319T065042Z
LAST-MODIFIED:20230503T200005Z
UID:10000015-1397928600-1397941200@envirocenter.org
SUMMARY:Ten Friends Spring Celebration
DESCRIPTION:The Ten Friends Spring Celebration is Saturday\, April 19th from 5:30-9:00 at Aspen Hall in Bend. \nStop by for delicious food\, local micro brews\, wine\, silent auction\, live music\, raffle\, Nepali imports for sale\, and a slide show update on Ten Friends’ work in Nepal. $12 suggested donation for the catered dinner. Proceeds go to the Ten Friends Himalayan Education Center in Nepal.  Children are welcome. \nDeveloping countries that educate girls to the same degree as they educate boys benefit from lower birth rates\, longer life expectancies\, lower mortality rates and higher economic growth. Women’s education is an investment that critically influences social and economic development worldwide.  Empowering women and investing in their futures is a major part of our mission and reason for Ten Friends’ existence. Help us help women. We hope you’ll be there for the tenth year of good times for a good cause.
URL:https://envirocenter.org/event/ten-friends-spring-celebration/
LOCATION:Deschutes Brewery Public House\, 1044 NW Bond St\, Bend\, OR\, 97701\, United States
GEO:44.0593984;-121.3113079
X-APPLE-STRUCTURED-LOCATION;VALUE=URI;X-ADDRESS=Deschutes Brewery Public House 1044 NW Bond St Bend OR 97701 United States;X-APPLE-RADIUS=500;X-TITLE=1044 NW Bond St:geo:-121.3113079,44.0593984
END:VEVENT
END:VCALENDAR