BEGIN:VCALENDAR
VERSION:2.0
PRODID:-//The Environmental Center - ECPv6.15.20//NONSGML v1.0//EN
CALSCALE:GREGORIAN
METHOD:PUBLISH
X-ORIGINAL-URL:https://envirocenter.org
X-WR-CALDESC:Events for The Environmental Center
REFRESH-INTERVAL;VALUE=DURATION:PT1H
X-Robots-Tag:noindex
X-PUBLISHED-TTL:PT1H
BEGIN:VTIMEZONE
TZID:America/Los_Angeles
BEGIN:DAYLIGHT
TZOFFSETFROM:-0800
TZOFFSETTO:-0700
TZNAME:PDT
DTSTART:20130310T100000
END:DAYLIGHT
BEGIN:STANDARD
TZOFFSETFROM:-0700
TZOFFSETTO:-0800
TZNAME:PST
DTSTART:20131103T090000
END:STANDARD
BEGIN:DAYLIGHT
TZOFFSETFROM:-0800
TZOFFSETTO:-0700
TZNAME:PDT
DTSTART:20140309T100000
END:DAYLIGHT
BEGIN:STANDARD
TZOFFSETFROM:-0700
TZOFFSETTO:-0800
TZNAME:PST
DTSTART:20141102T090000
END:STANDARD
BEGIN:DAYLIGHT
TZOFFSETFROM:-0800
TZOFFSETTO:-0700
TZNAME:PDT
DTSTART:20150308T100000
END:DAYLIGHT
BEGIN:STANDARD
TZOFFSETFROM:-0700
TZOFFSETTO:-0800
TZNAME:PST
DTSTART:20151101T090000
END:STANDARD
END:VTIMEZONE
BEGIN:VEVENT
DTSTART;VALUE=DATE:20140418
DTEND;VALUE=DATE:20140419
DTSTAMP:20260422T174110
CREATED:20140412T020307Z
LAST-MODIFIED:20230503T200008Z
UID:10002154-1397811600-1397836800@envirocenter.org
SUMMARY:Wildflower Hike\, Alder Springs
DESCRIPTION:Join the Deschutes Land Trust and Carol Moorehead for a hike to Alder Springs and then beyond\nto the confluence of Whychus creek and the Deschutes River. We’ll hike from the top of the\nCrooked River National Grasslands through sun-warmed sagelands that give us our first spring\nwildflowers. See white sand lilies\, yellow bells\, spring gold and more as you hike down to Alder\nSprings itself. Then\, follow Whychus Creek to its confluence with the Deschutes River. \nRegistration is required and opens 1 month prior to the event. \nPlease register online at\nwww.deschuteslandtrust.org/events. \nRating: Challenging\, ~8 mile hike.\nWhat to Bring: Lunch/snacks\, water\, sturdy hiking shoes\, water sandals for creek crossing.\nDress for the weather.
URL:https://envirocenter.org/event/wildflower-hike-alder-springs/
LOCATION:Deschutes Brewery Public House\, 1044 NW Bond St\, Bend\, OR\, 97701\, United States
GEO:44.0593984;-121.3113079
X-APPLE-STRUCTURED-LOCATION;VALUE=URI;X-ADDRESS=Deschutes Brewery Public House 1044 NW Bond St Bend OR 97701 United States;X-APPLE-RADIUS=500;X-TITLE=1044 NW Bond St:geo:-121.3113079,44.0593984
END:VEVENT
END:VCALENDAR