BEGIN:VCALENDAR
VERSION:2.0
PRODID:-//The Environmental Center - ECPv6.15.20//NONSGML v1.0//EN
CALSCALE:GREGORIAN
METHOD:PUBLISH
X-ORIGINAL-URL:https://envirocenter.org
X-WR-CALDESC:Events for The Environmental Center
REFRESH-INTERVAL;VALUE=DURATION:PT1H
X-Robots-Tag:noindex
X-PUBLISHED-TTL:PT1H
BEGIN:VTIMEZONE
TZID:America/Los_Angeles
BEGIN:DAYLIGHT
TZOFFSETFROM:-0800
TZOFFSETTO:-0700
TZNAME:PDT
DTSTART:20130310T100000
END:DAYLIGHT
BEGIN:STANDARD
TZOFFSETFROM:-0700
TZOFFSETTO:-0800
TZNAME:PST
DTSTART:20131103T090000
END:STANDARD
BEGIN:DAYLIGHT
TZOFFSETFROM:-0800
TZOFFSETTO:-0700
TZNAME:PDT
DTSTART:20140309T100000
END:DAYLIGHT
BEGIN:STANDARD
TZOFFSETFROM:-0700
TZOFFSETTO:-0800
TZNAME:PST
DTSTART:20141102T090000
END:STANDARD
BEGIN:DAYLIGHT
TZOFFSETFROM:-0800
TZOFFSETTO:-0700
TZNAME:PDT
DTSTART:20150308T100000
END:DAYLIGHT
BEGIN:STANDARD
TZOFFSETFROM:-0700
TZOFFSETTO:-0800
TZNAME:PST
DTSTART:20151101T090000
END:STANDARD
END:VTIMEZONE
BEGIN:VEVENT
DTSTART;VALUE=DATE:20140414
DTEND;VALUE=DATE:20140415
DTSTAMP:20260422T161923
CREATED:20140412T020005Z
LAST-MODIFIED:20230503T200006Z
UID:10002153-1397466000-1397516400@envirocenter.org
SUMMARY:Bird Walk\, Indian Ford Meadow Preserve
DESCRIPTION:Join the Deschutes Land Trust and Carol Wall on a bird walk at picturesque Indian Ford Meadow\nPreserve. Explore pine forest\, sage-flats\, and creek-side willows in search for songbirds\,\nhummingbirds\, and soaring raptors. Listen for the California quail’s distinctive “chi-ca-go” call\nwhile you see what species of birds have returned as part of their spring migration. \nRegistration is required and opens 1 month prior to the event.\nPlease register online at www.deschuteslandtrust.org/events. \nRating: Easy\, ~1-2 mile walk.\nWhat to Bring: Binoculars\, snacks\, water\, sturdy hiking shoes. Dress for the weather.
URL:https://envirocenter.org/event/bird-walk-indian-ford-meadow-preserve/
LOCATION:Deschutes Brewery Public House\, 1044 NW Bond St\, Bend\, OR\, 97701\, United States
GEO:44.0593984;-121.3113079
X-APPLE-STRUCTURED-LOCATION;VALUE=URI;X-ADDRESS=Deschutes Brewery Public House 1044 NW Bond St Bend OR 97701 United States;X-APPLE-RADIUS=500;X-TITLE=1044 NW Bond St:geo:-121.3113079,44.0593984
END:VEVENT
END:VCALENDAR