BEGIN:VCALENDAR
VERSION:2.0
PRODID:-//The Environmental Center - ECPv6.15.20//NONSGML v1.0//EN
CALSCALE:GREGORIAN
METHOD:PUBLISH
X-ORIGINAL-URL:https://envirocenter.org
X-WR-CALDESC:Events for The Environmental Center
REFRESH-INTERVAL;VALUE=DURATION:PT1H
X-Robots-Tag:noindex
X-PUBLISHED-TTL:PT1H
BEGIN:VTIMEZONE
TZID:America/Los_Angeles
BEGIN:DAYLIGHT
TZOFFSETFROM:-0800
TZOFFSETTO:-0700
TZNAME:PDT
DTSTART:20130310T100000
END:DAYLIGHT
BEGIN:STANDARD
TZOFFSETFROM:-0700
TZOFFSETTO:-0800
TZNAME:PST
DTSTART:20131103T090000
END:STANDARD
BEGIN:DAYLIGHT
TZOFFSETFROM:-0800
TZOFFSETTO:-0700
TZNAME:PDT
DTSTART:20140309T100000
END:DAYLIGHT
BEGIN:STANDARD
TZOFFSETFROM:-0700
TZOFFSETTO:-0800
TZNAME:PST
DTSTART:20141102T090000
END:STANDARD
BEGIN:DAYLIGHT
TZOFFSETFROM:-0800
TZOFFSETTO:-0700
TZNAME:PDT
DTSTART:20150308T100000
END:DAYLIGHT
BEGIN:STANDARD
TZOFFSETFROM:-0700
TZOFFSETTO:-0800
TZNAME:PST
DTSTART:20151101T090000
END:STANDARD
END:VTIMEZONE
BEGIN:VEVENT
DTSTART;VALUE=DATE:20140413
DTEND;VALUE=DATE:20140414
DTSTAMP:20260422T174109
CREATED:20140408T012724Z
LAST-MODIFIED:20230503T200005Z
UID:10002148-1397394000-1397404800@envirocenter.org
SUMMARY:Bird Costume Workshop
DESCRIPTION:Get ready for the Earth Day Parade by making a beautiful bird costume! We will be cutting\, sewing\, gluing\, buttoning\, and glittering old stuff into magnificent costumes that will turn you into a Central Oregon bird! This workshop will be fun for all ages – tiny toddlers to adults. \n  \nChoose the bird you’d like your costume to represent ahead of time\, or decide at the workshop. At Camp Fire\, we love the sage grouse\, golden eagle\, mountain quail\, spotted owl\, belted kingfisher\, raven\, northern flicker\, turkey vulture\, and scrub jay\, but feel free to look at other Central Oregon birds to figure out which one inspires you. \n  \nWe encourage you to bring items that are destined for the thrift store or landfill – we want to create costumes with materials that are stained\, ripped\, torn\, too small\, or too large. You can even choose what kind of bird you’d like your costume to represent\, and bring materials in those colors. If you have a large pile of materials that you would like to share with others\, please bring it! We are happy to donate any unused materials to a thrift store when the event is over. We will be deconstructing and reconstructing these materials into fitted likenesses of Central Oregon birds so we can all fly in a communal flock during the Earth Day Parade! \n  \nKids under 11 must be accompanied by an adult. \n  \nMembers attend for free! Non-members pay $5 at the door. Or\, join Camp Fire today and come to the workshop for free! \n  \nSpace is limited and registration for each participant is required. Please click here to register.
URL:https://envirocenter.org/event/bird-costume-workshop/
LOCATION:Deschutes Brewery Public House\, 1044 NW Bond St\, Bend\, OR\, 97701\, United States
GEO:44.0593984;-121.3113079
X-APPLE-STRUCTURED-LOCATION;VALUE=URI;X-ADDRESS=Deschutes Brewery Public House 1044 NW Bond St Bend OR 97701 United States;X-APPLE-RADIUS=500;X-TITLE=1044 NW Bond St:geo:-121.3113079,44.0593984
END:VEVENT
END:VCALENDAR