BEGIN:VCALENDAR
VERSION:2.0
PRODID:-//The Environmental Center - ECPv6.15.20//NONSGML v1.0//EN
CALSCALE:GREGORIAN
METHOD:PUBLISH
X-WR-CALNAME:The Environmental Center
X-ORIGINAL-URL:https://envirocenter.org
X-WR-CALDESC:Events for The Environmental Center
REFRESH-INTERVAL;VALUE=DURATION:PT1H
X-Robots-Tag:noindex
X-PUBLISHED-TTL:PT1H
BEGIN:VTIMEZONE
TZID:America/Los_Angeles
BEGIN:DAYLIGHT
TZOFFSETFROM:-0800
TZOFFSETTO:-0700
TZNAME:PDT
DTSTART:20130310T100000
END:DAYLIGHT
BEGIN:STANDARD
TZOFFSETFROM:-0700
TZOFFSETTO:-0800
TZNAME:PST
DTSTART:20131103T090000
END:STANDARD
BEGIN:DAYLIGHT
TZOFFSETFROM:-0800
TZOFFSETTO:-0700
TZNAME:PDT
DTSTART:20140309T100000
END:DAYLIGHT
BEGIN:STANDARD
TZOFFSETFROM:-0700
TZOFFSETTO:-0800
TZNAME:PST
DTSTART:20141102T090000
END:STANDARD
BEGIN:DAYLIGHT
TZOFFSETFROM:-0800
TZOFFSETTO:-0700
TZNAME:PDT
DTSTART:20150308T100000
END:DAYLIGHT
BEGIN:STANDARD
TZOFFSETFROM:-0700
TZOFFSETTO:-0800
TZNAME:PST
DTSTART:20151101T090000
END:STANDARD
END:VTIMEZONE
BEGIN:VEVENT
DTSTART;VALUE=DATE:20140322
DTEND;VALUE=DATE:20140323
DTSTAMP:20260422T174130
CREATED:20140307T022532Z
LAST-MODIFIED:20230503T195959Z
UID:10000001-1395478800-1395504000@envirocenter.org
SUMMARY:Geology Hike - Smith Rock State Park
DESCRIPTION:Join the Deschutes Land Trust and Derek Loeb for a geology hike along the Summit Loop Trail at Smith Rock State Park. This gorgeous 7-mile hike follows the Burma Road up to a ridge overlooking famed peaks like Monkey Face. On the descent\, the trail crosses a private property protected by the Land Trust for its mule deer and Crooked River habitat. Along the way\, learn about how Smith Rock’s unique geology was shaped by volcanoes and water. \nRegistration is required and opens 1 month prior to the event. Please register here.  \nRating: Difficult\, ~7 mile hike. \nWhat to Bring: Snacks/Lunch\, water\, sturdy hiking shoes. Dress for the weather.
URL:https://envirocenter.org/event/geology-hike-smith-rock-state-park/
LOCATION:Deschutes Brewery Public House\, 1044 NW Bond St\, Bend\, OR\, 97701\, United States
GEO:44.0593984;-121.3113079
X-APPLE-STRUCTURED-LOCATION;VALUE=URI;X-ADDRESS=Deschutes Brewery Public House 1044 NW Bond St Bend OR 97701 United States;X-APPLE-RADIUS=500;X-TITLE=1044 NW Bond St:geo:-121.3113079,44.0593984
END:VEVENT
BEGIN:VEVENT
DTSTART;VALUE=DATE:20140322
DTEND;VALUE=DATE:20140323
DTSTAMP:20260422T174130
CREATED:20140306T081819Z
LAST-MODIFIED:20230503T195956Z
UID:10002128-1395482400-1395489600@envirocenter.org
SUMMARY:Growing Vegetables Class\, Introductory Level
DESCRIPTION:An introductory class on growing vegetables including climate\, site selection\, soil preparation\, season extension and crop selection. A two hour class for the community. \nA two hour class for the community. For a full class schedule go here and here to sign up. \nCall 541-548-6088 for more information
URL:https://envirocenter.org/event/growing-vegetables-class-introductory-level-3/
LOCATION:Deschutes Brewery Public House\, 1044 NW Bond St\, Bend\, OR\, 97701\, United States
GEO:44.0593984;-121.3113079
X-APPLE-STRUCTURED-LOCATION;VALUE=URI;X-ADDRESS=Deschutes Brewery Public House 1044 NW Bond St Bend OR 97701 United States;X-APPLE-RADIUS=500;X-TITLE=1044 NW Bond St:geo:-121.3113079,44.0593984
END:VEVENT
END:VCALENDAR