BEGIN:VCALENDAR
VERSION:2.0
PRODID:-//The Environmental Center - ECPv6.15.20//NONSGML v1.0//EN
CALSCALE:GREGORIAN
METHOD:PUBLISH
X-ORIGINAL-URL:https://envirocenter.org
X-WR-CALDESC:Events for The Environmental Center
REFRESH-INTERVAL;VALUE=DURATION:PT1H
X-Robots-Tag:noindex
X-PUBLISHED-TTL:PT1H
BEGIN:VTIMEZONE
TZID:America/Los_Angeles
BEGIN:DAYLIGHT
TZOFFSETFROM:-0800
TZOFFSETTO:-0700
TZNAME:PDT
DTSTART:20130310T100000
END:DAYLIGHT
BEGIN:STANDARD
TZOFFSETFROM:-0700
TZOFFSETTO:-0800
TZNAME:PST
DTSTART:20131103T090000
END:STANDARD
BEGIN:DAYLIGHT
TZOFFSETFROM:-0800
TZOFFSETTO:-0700
TZNAME:PDT
DTSTART:20140309T100000
END:DAYLIGHT
BEGIN:STANDARD
TZOFFSETFROM:-0700
TZOFFSETTO:-0800
TZNAME:PST
DTSTART:20141102T090000
END:STANDARD
BEGIN:DAYLIGHT
TZOFFSETFROM:-0800
TZOFFSETTO:-0700
TZNAME:PDT
DTSTART:20150308T100000
END:DAYLIGHT
BEGIN:STANDARD
TZOFFSETFROM:-0700
TZOFFSETTO:-0800
TZNAME:PST
DTSTART:20151101T090000
END:STANDARD
END:VTIMEZONE
BEGIN:VEVENT
DTSTART;VALUE=DATE:20140304
DTEND;VALUE=DATE:20140305
DTSTAMP:20260422T164232
CREATED:20140212T071037Z
LAST-MODIFIED:20230503T195948Z
UID:10002112-1393957800-1393965000@envirocenter.org
SUMMARY:Green Team Movie Night: Gasland
DESCRIPTION:The Green Team will watch “GASLAND II” which was aired on HBO last July. \nIn this “explosive” follow-up to his Oscar-nominated film “GASLAND\,” filmmaker Josh Fox takes a broader\, deeper look at the dangers of hydraulic fracturing\, or fracking\, the controversial method of extracting natural gas and oil.  The film argues that the gas industry’s portrayal of natural gas as a clean and safe alternative to oil is a myth and that tracked wells inevitably leak over time\, contaminating water and air\, hurting families\, and endangering the earth’s climate with the potent greenhouse gas\, methane.  In addition the film looks at how the powerful oil and gas industries are in Fox’s words “contaminating our democracy”.
URL:https://envirocenter.org/event/green-team-movie-night-gasland/
LOCATION:Deschutes Brewery Public House\, 1044 NW Bond St\, Bend\, OR\, 97701\, United States
GEO:44.0593984;-121.3113079
X-APPLE-STRUCTURED-LOCATION;VALUE=URI;X-ADDRESS=Deschutes Brewery Public House 1044 NW Bond St Bend OR 97701 United States;X-APPLE-RADIUS=500;X-TITLE=1044 NW Bond St:geo:-121.3113079,44.0593984
END:VEVENT
END:VCALENDAR