BEGIN:VCALENDAR
VERSION:2.0
PRODID:-//The Environmental Center - ECPv6.15.20//NONSGML v1.0//EN
CALSCALE:GREGORIAN
METHOD:PUBLISH
X-ORIGINAL-URL:https://envirocenter.org
X-WR-CALDESC:Events for The Environmental Center
REFRESH-INTERVAL;VALUE=DURATION:PT1H
X-Robots-Tag:noindex
X-PUBLISHED-TTL:PT1H
BEGIN:VTIMEZONE
TZID:America/Los_Angeles
BEGIN:DAYLIGHT
TZOFFSETFROM:-0800
TZOFFSETTO:-0700
TZNAME:PDT
DTSTART:20130310T100000
END:DAYLIGHT
BEGIN:STANDARD
TZOFFSETFROM:-0700
TZOFFSETTO:-0800
TZNAME:PST
DTSTART:20131103T090000
END:STANDARD
BEGIN:DAYLIGHT
TZOFFSETFROM:-0800
TZOFFSETTO:-0700
TZNAME:PDT
DTSTART:20140309T100000
END:DAYLIGHT
BEGIN:STANDARD
TZOFFSETFROM:-0700
TZOFFSETTO:-0800
TZNAME:PST
DTSTART:20141102T090000
END:STANDARD
BEGIN:DAYLIGHT
TZOFFSETFROM:-0800
TZOFFSETTO:-0700
TZNAME:PDT
DTSTART:20150308T100000
END:DAYLIGHT
BEGIN:STANDARD
TZOFFSETFROM:-0700
TZOFFSETTO:-0800
TZNAME:PST
DTSTART:20151101T090000
END:STANDARD
END:VTIMEZONE
BEGIN:VEVENT
DTSTART;VALUE=DATE:20140220
DTEND;VALUE=DATE:20140221
DTSTAMP:20260420T160812
CREATED:20140205T072653Z
LAST-MODIFIED:20230503T195948Z
UID:10002108-1392921000-1392928200@envirocenter.org
SUMMARY:Birders Night: Northern Goshawk
DESCRIPTION:Join Master Falconer and High Desert Museum Natural History Curator\, John Goodell as he give us a closer look at the Northern Goshawk\, it’s habitat\, natural history and population status as one of the most secretive diurnal raptors in Central Oregon. \nJohn will be bringing a live goshawk to provide an up close and personal encounter during which you’ll also learn some little-known facts about goshawk behavior\, prey\, and amazing hunting strategies. John is a wildlife biologist with over 20 years’ experience conducting wildlife research and monitoring efforts throughout the western U.S. He has a particular interest in passerine and raptor conservation and wildlife habitat restoration. \nJoin ECAS at 6:30pm for social time and treats. A discussion covering local birding and birding events starts at 7:00pm\, and the Goshawk program runs from about 7:30pm to 8:30pm. \nECAS members\, friends\, neighbors and central Oregon visitors are all welcome to Birder’s Night. \n 
URL:https://envirocenter.org/event/birders-night-northern-goshawk/
LOCATION:Deschutes Brewery Public House\, 1044 NW Bond St\, Bend\, OR\, 97701\, United States
GEO:44.0593984;-121.3113079
X-APPLE-STRUCTURED-LOCATION;VALUE=URI;X-ADDRESS=Deschutes Brewery Public House 1044 NW Bond St Bend OR 97701 United States;X-APPLE-RADIUS=500;X-TITLE=1044 NW Bond St:geo:-121.3113079,44.0593984
END:VEVENT
BEGIN:VEVENT
DTSTART;VALUE=DATE:20140220
DTEND;VALUE=DATE:20140221
DTSTAMP:20260420T160812
CREATED:20140131T072822Z
LAST-MODIFIED:20230503T195948Z
UID:10002106-1392922800-1392930000@envirocenter.org
SUMMARY:Poop\, Money and the Environment: What’s the Connection?
DESCRIPTION:Come learn more about what’s up with Bend’s Sewer Collection System Master Plan from members of the citizen’s advisory committee (unofficially the “Poop Committee”) charged with developing a recommendation for the City Council. \nWhat might the plan look like\, how much might it cost\, and why is it important to environmental protection in Bend?  Advisory committee members Mike Riley\, Wes Price\, Nathan Boddie\, as well as Assistant City Manager Jon Skidmore will present and answer questions. \nJoin OLCV staff and volunteers\, fellow community members\, elected officials\, and local candidates who care about Protecting Oregon’s air\, water\, land and wildlife\, for Pints and Politics on the 3rd Thursday of the month.
URL:https://envirocenter.org/event/poop-money-and-the-environment-whats-the-connection/
LOCATION:Deschutes Brewery Public House\, 1044 NW Bond St\, Bend\, OR\, 97701\, United States
GEO:44.0593984;-121.3113079
X-APPLE-STRUCTURED-LOCATION;VALUE=URI;X-ADDRESS=Deschutes Brewery Public House 1044 NW Bond St Bend OR 97701 United States;X-APPLE-RADIUS=500;X-TITLE=1044 NW Bond St:geo:-121.3113079,44.0593984
END:VEVENT
END:VCALENDAR