BEGIN:VCALENDAR
VERSION:2.0
PRODID:-//The Environmental Center - ECPv6.15.20//NONSGML v1.0//EN
CALSCALE:GREGORIAN
METHOD:PUBLISH
X-ORIGINAL-URL:https://envirocenter.org
X-WR-CALDESC:Events for The Environmental Center
REFRESH-INTERVAL;VALUE=DURATION:PT1H
X-Robots-Tag:noindex
X-PUBLISHED-TTL:PT1H
BEGIN:VTIMEZONE
TZID:America/Los_Angeles
BEGIN:DAYLIGHT
TZOFFSETFROM:-0800
TZOFFSETTO:-0700
TZNAME:PDT
DTSTART:20130310T100000
END:DAYLIGHT
BEGIN:STANDARD
TZOFFSETFROM:-0700
TZOFFSETTO:-0800
TZNAME:PST
DTSTART:20131103T090000
END:STANDARD
BEGIN:DAYLIGHT
TZOFFSETFROM:-0800
TZOFFSETTO:-0700
TZNAME:PDT
DTSTART:20140309T100000
END:DAYLIGHT
BEGIN:STANDARD
TZOFFSETFROM:-0700
TZOFFSETTO:-0800
TZNAME:PST
DTSTART:20141102T090000
END:STANDARD
BEGIN:DAYLIGHT
TZOFFSETFROM:-0800
TZOFFSETTO:-0700
TZNAME:PDT
DTSTART:20150308T100000
END:DAYLIGHT
BEGIN:STANDARD
TZOFFSETFROM:-0700
TZOFFSETTO:-0800
TZNAME:PST
DTSTART:20151101T090000
END:STANDARD
END:VTIMEZONE
BEGIN:VEVENT
DTSTART;VALUE=DATE:20140218
DTEND;VALUE=DATE:20140219
DTSTAMP:20260420T160809
CREATED:20140212T041023Z
LAST-MODIFIED:20230503T195948Z
UID:10002111-1392724800-1392729300@envirocenter.org
SUMMARY:Joining the Race for The Sun: A Solar Workshop for Builders\, Architects and Designers
DESCRIPTION:As the word gets out that solar is become more cost effective\, it is becoming more and more common that homeowners\, designers\, and builders\, are looking into options for pursuing solar on new construction projects. \nThis workshop will go over how you can incorporate solar into your professional portfolio so you can offer it to your clients with confidence. Learn about the most popular solar technologies used in Oregon\, how to design a good solar roof\, how to design for solar on a net-zero home\, emergency back-up options\, and the current incentives that are available for homeowners to go solar. \nRSVP by Sunday\, February 16th. \nPresented by: \nJoe Mazzarella\, Sunlight Solar Energy \nMatt Douglas\, Earth Advantage \nMisti Nelmes\, Energy Trust of Oregon \nCCB Continuing Ed credits available (Series B).
URL:https://envirocenter.org/event/joining-the-race-for-the-sun-a-solar-workshop-for-builders-architects-and-designers/
LOCATION:Deschutes Brewery Public House\, 1044 NW Bond St\, Bend\, OR\, 97701\, United States
GEO:44.0593984;-121.3113079
X-APPLE-STRUCTURED-LOCATION;VALUE=URI;X-ADDRESS=Deschutes Brewery Public House 1044 NW Bond St Bend OR 97701 United States;X-APPLE-RADIUS=500;X-TITLE=1044 NW Bond St:geo:-121.3113079,44.0593984
END:VEVENT
BEGIN:VEVENT
DTSTART;VALUE=DATE:20140218
DTEND;VALUE=DATE:20140219
DTSTAMP:20260420T160809
CREATED:20140214T071323Z
LAST-MODIFIED:20230503T195954Z
UID:10002114-1392746400-1392753600@envirocenter.org
SUMMARY:Slow Food High Desert Potluck
DESCRIPTION:This month’s Slow Food High Desert potluck will showcase episodes of Julie Child’s cooking show “The French Chef” and talking about cooking and food. \nPlease bring a dish to share and personal place settings (plate and utensils). \nYou don’t have to be a Slow Food member to participate! Bring your friends and family and make it a social event! \nThis is a no charge event\, but donations are welcome. No RSVP necessary.
URL:https://envirocenter.org/event/slow-food-high-desert-potluck/
LOCATION:Deschutes Brewery Public House\, 1044 NW Bond St\, Bend\, OR\, 97701\, United States
GEO:44.0593984;-121.3113079
X-APPLE-STRUCTURED-LOCATION;VALUE=URI;X-ADDRESS=Deschutes Brewery Public House 1044 NW Bond St Bend OR 97701 United States;X-APPLE-RADIUS=500;X-TITLE=1044 NW Bond St:geo:-121.3113079,44.0593984
END:VEVENT
END:VCALENDAR